BEGIN:VCALENDAR
VERSION:2.0
PRODID:-//Šrí Šrí Nitái Navadvípačandra mandir - ECPv6.15.20//NONSGML v1.0//EN
CALSCALE:GREGORIAN
METHOD:PUBLISH
X-WR-CALNAME:Šrí Šrí Nitái Navadvípačandra mandir
X-ORIGINAL-URL:https://mahamantra.cz
X-WR-CALDESC:Akce na Šrí Šrí Nitái Navadvípačandra mandir
REFRESH-INTERVAL;VALUE=DURATION:PT1H
X-Robots-Tag:noindex
X-PUBLISHED-TTL:PT1H
BEGIN:VTIMEZONE
TZID:Europe/Prague
BEGIN:DAYLIGHT
TZOFFSETFROM:+0100
TZOFFSETTO:+0200
TZNAME:CEST
DTSTART:20250330T010000
END:DAYLIGHT
BEGIN:STANDARD
TZOFFSETFROM:+0200
TZOFFSETTO:+0100
TZNAME:CET
DTSTART:20251026T010000
END:STANDARD
BEGIN:DAYLIGHT
TZOFFSETFROM:+0100
TZOFFSETTO:+0200
TZNAME:CEST
DTSTART:20260329T010000
END:DAYLIGHT
BEGIN:STANDARD
TZOFFSETFROM:+0200
TZOFFSETTO:+0100
TZNAME:CET
DTSTART:20261025T010000
END:STANDARD
BEGIN:DAYLIGHT
TZOFFSETFROM:+0100
TZOFFSETTO:+0200
TZNAME:CEST
DTSTART:20270328T010000
END:DAYLIGHT
BEGIN:STANDARD
TZOFFSETFROM:+0200
TZOFFSETTO:+0100
TZNAME:CET
DTSTART:20271031T010000
END:STANDARD
END:VTIMEZONE
BEGIN:VEVENT
DTSTART;VALUE=DATE:20260327
DTEND;VALUE=DATE:20260328
DTSTAMP:20260419T172010
CREATED:20251029T143551Z
LAST-MODIFIED:20251029T143551Z
UID:73345-1774569600-1774655999@mahamantra.cz
SUMMARY:Ráma Navamí – Příchod Pána Šrí Rámačandry (půst do západu Slunce)
DESCRIPTION:
URL:https://mahamantra.cz/event/rama-navami-prichod-pana-sri-ramacandry-pust-do-zapadu-slunce-5/
CATEGORIES:Vaišnavský kalendář
END:VEVENT
END:VCALENDAR