BEGIN:VCALENDAR
VERSION:2.0
PRODID:-//Šrí Šrí Nitái Navadvípačandra mandir - ECPv6.15.20//NONSGML v1.0//EN
CALSCALE:GREGORIAN
METHOD:PUBLISH
X-WR-CALNAME:Šrí Šrí Nitái Navadvípačandra mandir
X-ORIGINAL-URL:https://mahamantra.cz
X-WR-CALDESC:Akce na Šrí Šrí Nitái Navadvípačandra mandir
REFRESH-INTERVAL;VALUE=DURATION:PT1H
X-Robots-Tag:noindex
X-PUBLISHED-TTL:PT1H
BEGIN:VTIMEZONE
TZID:Europe/Prague
BEGIN:DAYLIGHT
TZOFFSETFROM:+0100
TZOFFSETTO:+0200
TZNAME:CEST
DTSTART:20250330T010000
END:DAYLIGHT
BEGIN:STANDARD
TZOFFSETFROM:+0200
TZOFFSETTO:+0100
TZNAME:CET
DTSTART:20251026T010000
END:STANDARD
BEGIN:DAYLIGHT
TZOFFSETFROM:+0100
TZOFFSETTO:+0200
TZNAME:CEST
DTSTART:20260329T010000
END:DAYLIGHT
BEGIN:STANDARD
TZOFFSETFROM:+0200
TZOFFSETTO:+0100
TZNAME:CET
DTSTART:20261025T010000
END:STANDARD
BEGIN:DAYLIGHT
TZOFFSETFROM:+0100
TZOFFSETTO:+0200
TZNAME:CEST
DTSTART:20270328T010000
END:DAYLIGHT
BEGIN:STANDARD
TZOFFSETFROM:+0200
TZOFFSETTO:+0100
TZNAME:CET
DTSTART:20271031T010000
END:STANDARD
END:VTIMEZONE
BEGIN:VEVENT
DTSTART;VALUE=DATE:20260803
DTEND;VALUE=DATE:20260804
DTSTAMP:20260419T221204
CREATED:20251029T150011Z
LAST-MODIFIED:20251029T150011Z
UID:73425-1785715200-1785801599@mahamantra.cz
SUMMARY:Šríla Gópála Bhatta Gósvámí – Odchod
DESCRIPTION:
URL:https://mahamantra.cz/event/srila-gopala-bhatta-gosvami-odchod-6/
CATEGORIES:Vaišnavský kalendář
END:VEVENT
END:VCALENDAR