BEGIN:VCALENDAR
VERSION:2.0
PRODID:-//Šrí Šrí Nitái Navadvípačandra mandir - ECPv6.15.20//NONSGML v1.0//EN
CALSCALE:GREGORIAN
METHOD:PUBLISH
X-ORIGINAL-URL:https://mahamantra.cz
X-WR-CALDESC:Akce na Šrí Šrí Nitái Navadvípačandra mandir
REFRESH-INTERVAL;VALUE=DURATION:PT1H
X-Robots-Tag:noindex
X-PUBLISHED-TTL:PT1H
BEGIN:VTIMEZONE
TZID:Europe/Prague
BEGIN:DAYLIGHT
TZOFFSETFROM:+0100
TZOFFSETTO:+0200
TZNAME:CEST
DTSTART:20240331T010000
END:DAYLIGHT
BEGIN:STANDARD
TZOFFSETFROM:+0200
TZOFFSETTO:+0100
TZNAME:CET
DTSTART:20241027T010000
END:STANDARD
BEGIN:DAYLIGHT
TZOFFSETFROM:+0100
TZOFFSETTO:+0200
TZNAME:CEST
DTSTART:20250330T010000
END:DAYLIGHT
BEGIN:STANDARD
TZOFFSETFROM:+0200
TZOFFSETTO:+0100
TZNAME:CET
DTSTART:20251026T010000
END:STANDARD
BEGIN:DAYLIGHT
TZOFFSETFROM:+0100
TZOFFSETTO:+0200
TZNAME:CEST
DTSTART:20260329T010000
END:DAYLIGHT
BEGIN:STANDARD
TZOFFSETFROM:+0200
TZOFFSETTO:+0100
TZNAME:CET
DTSTART:20261025T010000
END:STANDARD
END:VTIMEZONE
BEGIN:VEVENT
DTSTART;VALUE=DATE:20250309
DTEND;VALUE=DATE:20250310
DTSTAMP:20260420T005116
CREATED:20241104T151315Z
LAST-MODIFIED:20241104T151315Z
UID:72593-1741478400-1741564799@mahamantra.cz
SUMMARY:Ékádaší (nevhodné pro půst)
DESCRIPTION:
URL:https://mahamantra.cz/event/ekadasi-nevhodne-pro-pust-7/
CATEGORIES:Vaišnavský kalendář
END:VEVENT
BEGIN:VEVENT
DTSTART;VALUE=DATE:20250310
DTEND;VALUE=DATE:20250311
DTSTAMP:20260420T005116
CREATED:20241104T151335Z
LAST-MODIFIED:20241104T151335Z
UID:72594-1741564800-1741651199@mahamantra.cz
SUMMARY:Dvádaší (půst za Ámalakí vrata Ékádaší)
DESCRIPTION:
URL:https://mahamantra.cz/event/dvadasi-pust-za-amalaki-vrata-ekadasi-2/
CATEGORIES:Vaišnavský kalendář
END:VEVENT
BEGIN:VEVENT
DTSTART;VALUE=DATE:20250310
DTEND;VALUE=DATE:20250311
DTSTAMP:20260420T005116
CREATED:20241104T151346Z
LAST-MODIFIED:20241104T151346Z
UID:72595-1741564800-1741651199@mahamantra.cz
SUMMARY:Šrí Mádhavéndra Purí – Odchod
DESCRIPTION:
URL:https://mahamantra.cz/event/sri-madhavendra-puri-odchod-4/
CATEGORIES:Vaišnavský kalendář
END:VEVENT
BEGIN:VEVENT
DTSTART;VALUE=DATE:20250311
DTEND;VALUE=DATE:20250312
DTSTAMP:20260420T005116
CREATED:20241104T151357Z
LAST-MODIFIED:20241104T151357Z
UID:72596-1741651200-1741737599@mahamantra.cz
SUMMARY:Trajódašíaší\, přerušení: 06:24 - 10:16
DESCRIPTION:
URL:https://mahamantra.cz/event/trajodasiasi-preruseni-0624-1016/
CATEGORIES:Vaišnavský kalendář
END:VEVENT
BEGIN:VEVENT
DTSTART;VALUE=DATE:20250313
DTEND;VALUE=DATE:20250314
DTSTAMP:20260420T005116
CREATED:20241104T151409Z
LAST-MODIFIED:20241104T151409Z
UID:72597-1741824000-1741910399@mahamantra.cz
SUMMARY:Gaura Púrnimá – Příchod Šrí Čaitanji Maháprabhua (půst do východu měsíce)
DESCRIPTION:
URL:https://mahamantra.cz/event/gaura-purnima-prichod-sri-caitanji-mahaprabhua-pust-do-vychodu-mesice-4/
CATEGORIES:Vaišnavský kalendář
END:VEVENT
BEGIN:VEVENT
DTSTART;VALUE=DATE:20250322
DTEND;VALUE=DATE:20250323
DTSTAMP:20260420T005116
CREATED:20241104T151424Z
LAST-MODIFIED:20241104T151424Z
UID:72598-1742601600-1742687999@mahamantra.cz
SUMMARY:Šrí Šrívasa Pandita – Příchod
DESCRIPTION:
URL:https://mahamantra.cz/event/sri-srivasa-pandita-prichod-4/
CATEGORIES:Vaišnavský kalendář
END:VEVENT
BEGIN:VEVENT
DTSTART;VALUE=DATE:20250325
DTEND;VALUE=DATE:20250326
DTSTAMP:20260420T005116
CREATED:20241104T151437Z
LAST-MODIFIED:20241104T151437Z
UID:72599-1742860800-1742947199@mahamantra.cz
SUMMARY:Ékádaší (půst za Pápamóčaní Ékádaší)
DESCRIPTION:
URL:https://mahamantra.cz/event/ekadasi-pust-za-papamocani-ekadasi-4/
CATEGORIES:Vaišnavský kalendář
END:VEVENT
BEGIN:VEVENT
DTSTART;VALUE=DATE:20250326
DTEND;VALUE=DATE:20250327
DTSTAMP:20260420T005116
CREATED:20241104T151450Z
LAST-MODIFIED:20241104T151450Z
UID:72600-1742947200-1743033599@mahamantra.cz
SUMMARY:Dvádaší\, přerušení: 05:51 - 10:02
DESCRIPTION:
URL:https://mahamantra.cz/event/dvadasi-preruseni-0551-1002/
CATEGORIES:Vaišnavský kalendář
END:VEVENT
END:VCALENDAR