BEGIN:VCALENDAR
VERSION:2.0
PRODID:-//Šrí Šrí Nitái Navadvípačandra mandir - ECPv6.15.20//NONSGML v1.0//EN
CALSCALE:GREGORIAN
METHOD:PUBLISH
X-ORIGINAL-URL:https://mahamantra.cz
X-WR-CALDESC:Akce na Šrí Šrí Nitái Navadvípačandra mandir
REFRESH-INTERVAL;VALUE=DURATION:PT1H
X-Robots-Tag:noindex
X-PUBLISHED-TTL:PT1H
BEGIN:VTIMEZONE
TZID:Europe/Prague
BEGIN:DAYLIGHT
TZOFFSETFROM:+0100
TZOFFSETTO:+0200
TZNAME:CEST
DTSTART:20240331T010000
END:DAYLIGHT
BEGIN:STANDARD
TZOFFSETFROM:+0200
TZOFFSETTO:+0100
TZNAME:CET
DTSTART:20241027T010000
END:STANDARD
BEGIN:DAYLIGHT
TZOFFSETFROM:+0100
TZOFFSETTO:+0200
TZNAME:CEST
DTSTART:20250330T010000
END:DAYLIGHT
BEGIN:STANDARD
TZOFFSETFROM:+0200
TZOFFSETTO:+0100
TZNAME:CET
DTSTART:20251026T010000
END:STANDARD
BEGIN:DAYLIGHT
TZOFFSETFROM:+0100
TZOFFSETTO:+0200
TZNAME:CEST
DTSTART:20260329T010000
END:DAYLIGHT
BEGIN:STANDARD
TZOFFSETFROM:+0200
TZOFFSETTO:+0100
TZNAME:CET
DTSTART:20261025T010000
END:STANDARD
END:VTIMEZONE
BEGIN:VEVENT
DTSTART;VALUE=DATE:20250402
DTEND;VALUE=DATE:20250403
DTSTAMP:20260419T225417
CREATED:20241104T151701Z
LAST-MODIFIED:20241104T151701Z
UID:72609-1743552000-1743638399@mahamantra.cz
SUMMARY:Šrí Rámánudžáčárja – Příchod
DESCRIPTION:
URL:https://mahamantra.cz/event/sri-ramanudzacarja-prichod-4/
CATEGORIES:Vaišnavský kalendář
END:VEVENT
BEGIN:VEVENT
DTSTART;VALUE=DATE:20250406
DTEND;VALUE=DATE:20250407
DTSTAMP:20260419T225417
CREATED:20241104T151716Z
LAST-MODIFIED:20241104T151716Z
UID:72610-1743897600-1743983999@mahamantra.cz
SUMMARY:Ráma Navamí – Příchod Pána Šrí Rámačandry (půst do západu slunce)
DESCRIPTION:
URL:https://mahamantra.cz/event/rama-navami-prichod-pana-sri-ramacandry-pust-do-zapadu-slunce-4/
CATEGORIES:Vaišnavský kalendář
END:VEVENT
BEGIN:VEVENT
DTSTART;VALUE=DATE:20250408
DTEND;VALUE=DATE:20250409
DTSTAMP:20260419T225417
CREATED:20241104T151732Z
LAST-MODIFIED:20241104T151732Z
UID:72611-1744070400-1744156799@mahamantra.cz
SUMMARY:Ékádaší (půst za Kámada Ékádaší)
DESCRIPTION:
URL:https://mahamantra.cz/event/ekadasi-pust-za-kamada-ekadasi-2/
CATEGORIES:Vaišnavský kalendář
END:VEVENT
BEGIN:VEVENT
DTSTART;VALUE=DATE:20250409
DTEND;VALUE=DATE:20250410
DTSTAMP:20260419T225417
CREATED:20241104T151745Z
LAST-MODIFIED:20241104T151745Z
UID:72612-1744156800-1744243199@mahamantra.cz
SUMMARY:Dvádaší\, přerušení: 06:21 - 10:50
DESCRIPTION:
URL:https://mahamantra.cz/event/dvadasi-preruseni-0621-1050/
CATEGORIES:Vaišnavský kalendář
END:VEVENT
BEGIN:VEVENT
DTSTART;VALUE=DATE:20250412
DTEND;VALUE=DATE:20250413
DTSTAMP:20260419T225417
CREATED:20241104T151803Z
LAST-MODIFIED:20241104T151803Z
UID:72613-1744416000-1744502399@mahamantra.cz
SUMMARY:Šrí Šjámánanda Prabhu – Příchod\,  Šrí Balarama Rasayatra
DESCRIPTION:
URL:https://mahamantra.cz/event/sri-sjamananda-prabhu-prichod-sri-balarama-rasayatra-3/
CATEGORIES:Vaišnavský kalendář
END:VEVENT
BEGIN:VEVENT
DTSTART;VALUE=DATE:20250423
DTEND;VALUE=DATE:20250424
DTSTAMP:20260419T225417
CREATED:20241104T151816Z
LAST-MODIFIED:20241104T151816Z
UID:72614-1745366400-1745452799@mahamantra.cz
SUMMARY:Šríla Vrindávana Dása Thákura – Odchod
DESCRIPTION:
URL:https://mahamantra.cz/event/srila-vrindavana-dasa-thakura-odchod-4/
CATEGORIES:Vaišnavský kalendář
END:VEVENT
BEGIN:VEVENT
DTSTART;VALUE=DATE:20250424
DTEND;VALUE=DATE:20250425
DTSTAMP:20260419T225417
CREATED:20241104T151828Z
LAST-MODIFIED:20241104T151828Z
UID:72615-1745452800-1745539199@mahamantra.cz
SUMMARY:Ékádaší (půst za Varúthiní Ékádaší)
DESCRIPTION:
URL:https://mahamantra.cz/event/ekadasi-pust-za-varuthini-ekadasi-4/
CATEGORIES:Vaišnavský kalendář
END:VEVENT
BEGIN:VEVENT
DTSTART;VALUE=DATE:20250425
DTEND;VALUE=DATE:20250426
DTSTAMP:20260419T225417
CREATED:20241104T151844Z
LAST-MODIFIED:20241104T151844Z
UID:72616-1745539200-1745625599@mahamantra.cz
SUMMARY:Dvádaší\, přerušení 05:49 - 08:17
DESCRIPTION:
URL:https://mahamantra.cz/event/dvadasi-preruseni-0549-0817/
CATEGORIES:Vaišnavský kalendář
END:VEVENT
BEGIN:VEVENT
DTSTART;VALUE=DATE:20250427
DTEND;VALUE=DATE:20250428
DTSTAMP:20260419T225417
CREATED:20241104T151858Z
LAST-MODIFIED:20241104T151858Z
UID:72617-1745712000-1745798399@mahamantra.cz
SUMMARY:Šrí Gadádhara Pandita – Příchod
DESCRIPTION:
URL:https://mahamantra.cz/event/sri-gadadhara-pandita-prichod-4/
CATEGORIES:Vaišnavský kalendář
END:VEVENT
END:VCALENDAR