BEGIN:VCALENDAR
VERSION:2.0
PRODID:-//Šrí Šrí Nitái Navadvípačandra mandir - ECPv6.15.20//NONSGML v1.0//EN
CALSCALE:GREGORIAN
METHOD:PUBLISH
X-WR-CALNAME:Šrí Šrí Nitái Navadvípačandra mandir
X-ORIGINAL-URL:https://mahamantra.cz
X-WR-CALDESC:Akce na Šrí Šrí Nitái Navadvípačandra mandir
REFRESH-INTERVAL;VALUE=DURATION:PT1H
X-Robots-Tag:noindex
X-PUBLISHED-TTL:PT1H
BEGIN:VTIMEZONE
TZID:Europe/Prague
BEGIN:DAYLIGHT
TZOFFSETFROM:+0100
TZOFFSETTO:+0200
TZNAME:CEST
DTSTART:20240331T010000
END:DAYLIGHT
BEGIN:STANDARD
TZOFFSETFROM:+0200
TZOFFSETTO:+0100
TZNAME:CET
DTSTART:20241027T010000
END:STANDARD
BEGIN:DAYLIGHT
TZOFFSETFROM:+0100
TZOFFSETTO:+0200
TZNAME:CEST
DTSTART:20250330T010000
END:DAYLIGHT
BEGIN:STANDARD
TZOFFSETFROM:+0200
TZOFFSETTO:+0100
TZNAME:CET
DTSTART:20251026T010000
END:STANDARD
BEGIN:DAYLIGHT
TZOFFSETFROM:+0100
TZOFFSETTO:+0200
TZNAME:CEST
DTSTART:20260329T010000
END:DAYLIGHT
BEGIN:STANDARD
TZOFFSETFROM:+0200
TZOFFSETTO:+0100
TZNAME:CET
DTSTART:20261025T010000
END:STANDARD
END:VTIMEZONE
BEGIN:VEVENT
DTSTART;VALUE=DATE:20250505
DTEND;VALUE=DATE:20250506
DTSTAMP:20260419T205725
CREATED:20241104T152150Z
LAST-MODIFIED:20241104T152150Z
UID:72627-1746403200-1746489599@mahamantra.cz
SUMMARY:Šrímatí Sítá Déví (manželka Šrí Rámačandry) – Příchod\, Šrí Madhu Pandit – Odchod\, Šrímatí Džáhnava Déví – Příchod
DESCRIPTION:
URL:https://mahamantra.cz/event/srimati-sita-devi-manzelka-sri-ramacandry-prichod-sri-madhu-pandit-odchod-srimati-dzahnava-devi-prichod-3/
CATEGORIES:Vaišnavský kalendář
END:VEVENT
BEGIN:VEVENT
DTSTART;VALUE=DATE:20250508
DTEND;VALUE=DATE:20250509
DTSTAMP:20260419T205725
CREATED:20241104T152303Z
LAST-MODIFIED:20241104T152303Z
UID:72628-1746662400-1746748799@mahamantra.cz
SUMMARY:Ékádaší (půst za Móhiní Ékádaší)
DESCRIPTION:
URL:https://mahamantra.cz/event/ekadasi-pust-za-mohini-ekadasi-3/
CATEGORIES:Vaišnavský kalendář
END:VEVENT
BEGIN:VEVENT
DTSTART;VALUE=DATE:20250509
DTEND;VALUE=DATE:20250510
DTSTAMP:20260419T205725
CREATED:20241104T152317Z
LAST-MODIFIED:20241104T152317Z
UID:72629-1746748800-1746835199@mahamantra.cz
SUMMARY:Dvádaší\, přerušení: 05:24 - 10:27
DESCRIPTION:
URL:https://mahamantra.cz/event/dvadasi-preruseni-0524-1027/
CATEGORIES:Vaišnavský kalendář
END:VEVENT
BEGIN:VEVENT
DTSTART;VALUE=DATE:20250510
DTEND;VALUE=DATE:20250511
DTSTAMP:20260419T205725
CREATED:20241104T152333Z
LAST-MODIFIED:20241104T152333Z
UID:72630-1746835200-1746921599@mahamantra.cz
SUMMARY:Šrí Džajánanda Prabhu – Odchod
DESCRIPTION:
URL:https://mahamantra.cz/event/sri-dzajananda-prabhu-odchod-4/
CATEGORIES:Vaišnavský kalendář
END:VEVENT
BEGIN:VEVENT
DTSTART;VALUE=DATE:20250511
DTEND;VALUE=DATE:20250512
DTSTAMP:20260419T205725
CREATED:20241104T152348Z
LAST-MODIFIED:20241104T152348Z
UID:72631-1746921600-1747007999@mahamantra.cz
SUMMARY:Nrsimha Čaturdaší – Příchod Pána Nrsimhadéva (půst do soumraku) Nrsimha Čaturdaší – Příchod Pána Nrsimhadéva (půst do soumraku)
DESCRIPTION:
URL:https://mahamantra.cz/event/nrsimha-caturdasi-prichod-pana-nrsimhadeva-pust-do-soumraku-nrsimha-caturdasi-prichod-pana-nrsimhadeva-pust-do-soumraku/
CATEGORIES:Vaišnavský kalendář
END:VEVENT
BEGIN:VEVENT
DTSTART;VALUE=DATE:20250512
DTEND;VALUE=DATE:20250513
DTSTAMP:20260419T205725
CREATED:20241104T152415Z
LAST-MODIFIED:20241104T152415Z
UID:72632-1747008000-1747094399@mahamantra.cz
SUMMARY:Šrí Mádhavéndra Purí – Příchod\, Šrí Šrínivása Áčárja – Příchod
DESCRIPTION:
URL:https://mahamantra.cz/event/sri-madhavendra-puri-prichod-sri-srinivasa-acarja-prichod-3/
CATEGORIES:Vaišnavský kalendář
END:VEVENT
BEGIN:VEVENT
DTSTART;VALUE=DATE:20250517
DTEND;VALUE=DATE:20250518
DTSTAMP:20260419T205725
CREATED:20241104T152517Z
LAST-MODIFIED:20241104T152517Z
UID:72633-1747440000-1747526399@mahamantra.cz
SUMMARY:Šrí Rámánanda Rája – Odchod
DESCRIPTION:
URL:https://mahamantra.cz/event/sri-ramananda-raja-odchod-4/
CATEGORIES:Vaišnavský kalendář
END:VEVENT
BEGIN:VEVENT
DTSTART;VALUE=DATE:20250523
DTEND;VALUE=DATE:20250524
DTSTAMP:20260419T205725
CREATED:20241104T152531Z
LAST-MODIFIED:20241104T152531Z
UID:72634-1747958400-1748044799@mahamantra.cz
SUMMARY:Ékádaší (půst za Apará Ékádaší)
DESCRIPTION:
URL:https://mahamantra.cz/event/ekadasi-pust-za-apara-ekadasi-4/
CATEGORIES:Vaišnavský kalendář
END:VEVENT
BEGIN:VEVENT
DTSTART;VALUE=DATE:20250524
DTEND;VALUE=DATE:20250525
DTSTAMP:20260419T205725
CREATED:20241104T152545Z
LAST-MODIFIED:20241104T152545Z
UID:72635-1748044800-1748131199@mahamantra.cz
SUMMARY:Dvádaší\, přerušení: 05:04 - 10:21
DESCRIPTION:
URL:https://mahamantra.cz/event/dvadasi-preruseni-0504-1021/
CATEGORIES:Vaišnavský kalendář
END:VEVENT
BEGIN:VEVENT
DTSTART;VALUE=DATE:20250524
DTEND;VALUE=DATE:20250525
DTSTAMP:20260419T205725
CREATED:20241104T152604Z
LAST-MODIFIED:20241104T152604Z
UID:72636-1748044800-1748131199@mahamantra.cz
SUMMARY:Šríla Vrindávana Dása Thákura – Příchod
DESCRIPTION:
URL:https://mahamantra.cz/event/srila-vrindavana-dasa-thakura-prichod-3/
CATEGORIES:Vaišnavský kalendář
END:VEVENT
END:VCALENDAR