BEGIN:VCALENDAR
VERSION:2.0
PRODID:-//Šrí Šrí Nitái Navadvípačandra mandir - ECPv6.15.20//NONSGML v1.0//EN
CALSCALE:GREGORIAN
METHOD:PUBLISH
X-WR-CALNAME:Šrí Šrí Nitái Navadvípačandra mandir
X-ORIGINAL-URL:https://mahamantra.cz
X-WR-CALDESC:Akce na Šrí Šrí Nitái Navadvípačandra mandir
REFRESH-INTERVAL;VALUE=DURATION:PT1H
X-Robots-Tag:noindex
X-PUBLISHED-TTL:PT1H
BEGIN:VTIMEZONE
TZID:Europe/Prague
BEGIN:DAYLIGHT
TZOFFSETFROM:+0100
TZOFFSETTO:+0200
TZNAME:CEST
DTSTART:20240331T010000
END:DAYLIGHT
BEGIN:STANDARD
TZOFFSETFROM:+0200
TZOFFSETTO:+0100
TZNAME:CET
DTSTART:20241027T010000
END:STANDARD
BEGIN:DAYLIGHT
TZOFFSETFROM:+0100
TZOFFSETTO:+0200
TZNAME:CEST
DTSTART:20250330T010000
END:DAYLIGHT
BEGIN:STANDARD
TZOFFSETFROM:+0200
TZOFFSETTO:+0100
TZNAME:CET
DTSTART:20251026T010000
END:STANDARD
BEGIN:DAYLIGHT
TZOFFSETFROM:+0100
TZOFFSETTO:+0200
TZNAME:CEST
DTSTART:20260329T010000
END:DAYLIGHT
BEGIN:STANDARD
TZOFFSETFROM:+0200
TZOFFSETTO:+0100
TZNAME:CET
DTSTART:20261025T010000
END:STANDARD
END:VTIMEZONE
BEGIN:VEVENT
DTSTART;VALUE=DATE:20250701
DTEND;VALUE=DATE:20250702
DTSTAMP:20260419T155217
CREATED:20241104T153415Z
LAST-MODIFIED:20241104T153415Z
UID:72671-1751328000-1751414399@mahamantra.cz
SUMMARY:Šrí Vakréšvara Pandita – Odchod
DESCRIPTION:
URL:https://mahamantra.cz/event/sri-vakresvara-pandita-odchod-5/
CATEGORIES:Vaišnavský kalendář
END:VEVENT
BEGIN:VEVENT
DTSTART;VALUE=DATE:20250706
DTEND;VALUE=DATE:20250707
DTSTAMP:20260419T155217
CREATED:20241104T153423Z
LAST-MODIFIED:20241104T153423Z
UID:72672-1751760000-1751846399@mahamantra.cz
SUMMARY:Ékádaší (půst za Šajana Ékádaší)
DESCRIPTION:
URL:https://mahamantra.cz/event/ekadasi-pust-za-sajana-ekadasi-7/
CATEGORIES:Vaišnavský kalendář
END:VEVENT
BEGIN:VEVENT
DTSTART;VALUE=DATE:20250707
DTEND;VALUE=DATE:20250708
DTSTAMP:20260419T155217
CREATED:20241104T153439Z
LAST-MODIFIED:20241104T153439Z
UID:72673-1751846400-1751932799@mahamantra.cz
SUMMARY:Dvádaší\, přerušení: 05:01 - 10:25
DESCRIPTION:
URL:https://mahamantra.cz/event/dvadasi-preruseni-0501-1025/
CATEGORIES:Vaišnavský kalendář
END:VEVENT
BEGIN:VEVENT
DTSTART;VALUE=DATE:20250710
DTEND;VALUE=DATE:20250711
DTSTAMP:20260419T155217
CREATED:20241104T153455Z
LAST-MODIFIED:20241104T153455Z
UID:72674-1752105600-1752191999@mahamantra.cz
SUMMARY:Šríla Sanátana Gósvámí – Odchod
DESCRIPTION:
URL:https://mahamantra.cz/event/srila-sanatana-gosvami-odchod-5/
CATEGORIES:Vaišnavský kalendář
END:VEVENT
BEGIN:VEVENT
DTSTART;VALUE=DATE:20250711
DTEND;VALUE=DATE:20250712
DTSTAMP:20260419T155217
CREATED:20241104T153509Z
LAST-MODIFIED:20241104T153509Z
UID:72675-1752192000-1752278399@mahamantra.cz
SUMMARY:Začíná 1. měsíc Čaturmásji (půst od šáku)
DESCRIPTION:
URL:https://mahamantra.cz/event/zacina-1-mesic-caturmasji-pust-od-saku-4/
CATEGORIES:Vaišnavský kalendář
END:VEVENT
BEGIN:VEVENT
DTSTART;VALUE=DATE:20250715
DTEND;VALUE=DATE:20250716
DTSTAMP:20260419T155217
CREATED:20241104T153524Z
LAST-MODIFIED:20241104T153524Z
UID:72676-1752537600-1752623999@mahamantra.cz
SUMMARY:Šríla Gópála Bhatta Gósvámí – Odchod
DESCRIPTION:
URL:https://mahamantra.cz/event/srila-gopala-bhatta-gosvami-odchod-5/
CATEGORIES:Vaišnavský kalendář
END:VEVENT
BEGIN:VEVENT
DTSTART;VALUE=DATE:20250718
DTEND;VALUE=DATE:20250719
DTSTAMP:20260419T155217
CREATED:20241104T153536Z
LAST-MODIFIED:20241104T153536Z
UID:72677-1752796800-1752883199@mahamantra.cz
SUMMARY:Šríla Lókanátha Gósvámí – Odchod
DESCRIPTION:
URL:https://mahamantra.cz/event/srila-lokanatha-gosvami-odchod-5/
CATEGORIES:Vaišnavský kalendář
END:VEVENT
BEGIN:VEVENT
DTSTART;VALUE=DATE:20250719
DTEND;VALUE=DATE:20250720
DTSTAMP:20260419T155217
CREATED:20241104T153548Z
LAST-MODIFIED:20241104T153548Z
UID:72678-1752883200-1752969599@mahamantra.cz
SUMMARY:Založení ISKCONu v New Yorku v roce 1966
DESCRIPTION:
URL:https://mahamantra.cz/event/zalozeni-iskconu-v-new-yorku-v-roce-1966-5/
CATEGORIES:Vaišnavský kalendář
END:VEVENT
BEGIN:VEVENT
DTSTART;VALUE=DATE:20250721
DTEND;VALUE=DATE:20250722
DTSTAMP:20260419T155217
CREATED:20241104T153613Z
LAST-MODIFIED:20241104T153613Z
UID:72679-1753056000-1753142399@mahamantra.cz
SUMMARY:Ékádaší (půst za Kámika Ékádaší)
DESCRIPTION:
URL:https://mahamantra.cz/event/ekadasi-pust-za-kamika-ekadasi-6/
CATEGORIES:Vaišnavský kalendář
END:VEVENT
BEGIN:VEVENT
DTSTART;VALUE=DATE:20250722
DTEND;VALUE=DATE:20250723
DTSTAMP:20260419T155217
CREATED:20241104T153629Z
LAST-MODIFIED:20241104T153629Z
UID:72680-1753142400-1753228799@mahamantra.cz
SUMMARY:Trajódašíaší\, přerušení: 05:17 - 10:31
DESCRIPTION:
URL:https://mahamantra.cz/event/trajodasiasi-preruseni-0517-1031/
CATEGORIES:Vaišnavský kalendář
END:VEVENT
END:VCALENDAR