BEGIN:VCALENDAR
VERSION:2.0
PRODID:-//Šrí Šrí Nitái Navadvípačandra mandir - ECPv6.15.20//NONSGML v1.0//EN
CALSCALE:GREGORIAN
METHOD:PUBLISH
X-ORIGINAL-URL:https://mahamantra.cz
X-WR-CALDESC:Akce na Šrí Šrí Nitái Navadvípačandra mandir
REFRESH-INTERVAL;VALUE=DURATION:PT1H
X-Robots-Tag:noindex
X-PUBLISHED-TTL:PT1H
BEGIN:VTIMEZONE
TZID:Europe/Prague
BEGIN:DAYLIGHT
TZOFFSETFROM:+0100
TZOFFSETTO:+0200
TZNAME:CEST
DTSTART:20240331T010000
END:DAYLIGHT
BEGIN:STANDARD
TZOFFSETFROM:+0200
TZOFFSETTO:+0100
TZNAME:CET
DTSTART:20241027T010000
END:STANDARD
BEGIN:DAYLIGHT
TZOFFSETFROM:+0100
TZOFFSETTO:+0200
TZNAME:CEST
DTSTART:20250330T010000
END:DAYLIGHT
BEGIN:STANDARD
TZOFFSETFROM:+0200
TZOFFSETTO:+0100
TZNAME:CET
DTSTART:20251026T010000
END:STANDARD
BEGIN:DAYLIGHT
TZOFFSETFROM:+0100
TZOFFSETTO:+0200
TZNAME:CEST
DTSTART:20260329T010000
END:DAYLIGHT
BEGIN:STANDARD
TZOFFSETFROM:+0200
TZOFFSETTO:+0100
TZNAME:CET
DTSTART:20261025T010000
END:STANDARD
END:VTIMEZONE
BEGIN:VEVENT
DTSTART;VALUE=DATE:20250805
DTEND;VALUE=DATE:20250806
DTSTAMP:20260419T141059
CREATED:20241104T153744Z
LAST-MODIFIED:20241106T121209Z
UID:72691-1754352000-1754438399@mahamantra.cz
SUMMARY:Ékádaší (pust za Pavitrópana Ékádaší)
DESCRIPTION:
URL:https://mahamantra.cz/event/ekadasi-pust-za-pavitropana-ekadasi-6/
CATEGORIES:Vaišnavský kalendář
END:VEVENT
BEGIN:VEVENT
DTSTART;VALUE=DATE:20250806
DTEND;VALUE=DATE:20250807
DTSTAMP:20260419T141059
CREATED:20241104T153917Z
LAST-MODIFIED:20241104T153948Z
UID:72692-1754438400-1754524799@mahamantra.cz
SUMMARY:Dvádaší\, přerušení: 05:38 - 10:38
DESCRIPTION:
URL:https://mahamantra.cz/event/dvadasi-preruseni-0538-1038/
CATEGORIES:Vaišnavský kalendář
END:VEVENT
BEGIN:VEVENT
DTSTART;VALUE=DATE:20250806
DTEND;VALUE=DATE:20250807
DTSTAMP:20260419T141059
CREATED:20241104T154004Z
LAST-MODIFIED:20241104T154004Z
UID:72693-1754438400-1754524799@mahamantra.cz
SUMMARY:Šríla Rúpa Gósvámí – Odchod
DESCRIPTION:
URL:https://mahamantra.cz/event/srila-rupa-gosvami-odchod-5/
CATEGORIES:Vaišnavský kalendář
END:VEVENT
BEGIN:VEVENT
DTSTART;VALUE=DATE:20250809
DTEND;VALUE=DATE:20250810
DTSTAMP:20260419T141059
CREATED:20241104T154019Z
LAST-MODIFIED:20241104T154019Z
UID:72694-1754697600-1754783999@mahamantra.cz
SUMMARY:Příchod Pána Balaráma (půst do oběda)
DESCRIPTION:
URL:https://mahamantra.cz/event/prichod-pana-balarama-pust-do-obeda-4/
CATEGORIES:Vaišnavský kalendář
END:VEVENT
BEGIN:VEVENT
DTSTART;VALUE=DATE:20250810
DTEND;VALUE=DATE:20250811
DTSTAMP:20260419T141059
CREATED:20241104T154032Z
LAST-MODIFIED:20241104T154032Z
UID:72695-1754784000-1754870399@mahamantra.cz
SUMMARY:Začíná 2. měsíc Čaturmásji (půst od jogurtu)
DESCRIPTION:
URL:https://mahamantra.cz/event/zacina-2-mesic-caturmasji-pust-od-jogurtu-5/
CATEGORIES:Vaišnavský kalendář
END:VEVENT
BEGIN:VEVENT
DTSTART;VALUE=DATE:20250810
DTEND;VALUE=DATE:20250811
DTSTAMP:20260419T141059
CREATED:20241104T154044Z
LAST-MODIFIED:20241104T154044Z
UID:72696-1754784000-1754870399@mahamantra.cz
SUMMARY:Odjezd Šríly Prabhupády do USA
DESCRIPTION:
URL:https://mahamantra.cz/event/odjezd-srily-prabhupady-do-usa-4/
CATEGORIES:Vaišnavský kalendář
END:VEVENT
BEGIN:VEVENT
DTSTART;VALUE=DATE:20250816
DTEND;VALUE=DATE:20250817
DTSTAMP:20260419T141059
CREATED:20241104T154055Z
LAST-MODIFIED:20241104T154055Z
UID:72697-1755302400-1755388799@mahamantra.cz
SUMMARY:Šrí Krišna Džanmáštamí – Příchod Pána Šrí Kríšny (půst do půlnoci)
DESCRIPTION:
URL:https://mahamantra.cz/event/sri-krisna-dzanmastami-prichod-pana-sri-krisny-pust-do-pulnoci-5/
CATEGORIES:Vaišnavský kalendář
END:VEVENT
BEGIN:VEVENT
DTSTART;VALUE=DATE:20250817
DTEND;VALUE=DATE:20250818
DTSTAMP:20260419T141059
CREATED:20241104T154112Z
LAST-MODIFIED:20241104T154112Z
UID:72698-1755388800-1755475199@mahamantra.cz
SUMMARY:Nandótsava – Příchod Šríly Prabhupády (půst do oběda)
DESCRIPTION:
URL:https://mahamantra.cz/event/nandotsava-prichod-srily-prabhupady-pust-do-obeda-5/
CATEGORIES:Vaišnavský kalendář
END:VEVENT
BEGIN:VEVENT
DTSTART;VALUE=DATE:20250819
DTEND;VALUE=DATE:20250820
DTSTAMP:20260419T141059
CREATED:20241104T154125Z
LAST-MODIFIED:20241104T154125Z
UID:72699-1755561600-1755647999@mahamantra.cz
SUMMARY:Ékádaší (půst za Annadá Ékádaší)
DESCRIPTION:
URL:https://mahamantra.cz/event/ekadasi-pust-za-annada-ekadasi-5/
CATEGORIES:Vaišnavský kalendář
END:VEVENT
BEGIN:VEVENT
DTSTART;VALUE=DATE:20250820
DTEND;VALUE=DATE:20250821
DTSTAMP:20260419T141059
CREATED:20241104T154137Z
LAST-MODIFIED:20241104T154137Z
UID:72700-1755648000-1755734399@mahamantra.cz
SUMMARY:Dvádaší\, přerušení: 05:59 - 10:29
DESCRIPTION:
URL:https://mahamantra.cz/event/dvadasi-preruseni-0559-1029/
CATEGORIES:Vaišnavský kalendář
END:VEVENT
BEGIN:VEVENT
DTSTART;VALUE=DATE:20250828
DTEND;VALUE=DATE:20250829
DTSTAMP:20260419T141059
CREATED:20241104T154150Z
LAST-MODIFIED:20241104T154150Z
UID:72701-1756339200-1756425599@mahamantra.cz
SUMMARY:Šrímatí Síta Thákurání (manželka Šrí Advaity) – Příchod
DESCRIPTION:
URL:https://mahamantra.cz/event/srimati-sita-thakurani-manzelka-sri-advaity-prichod-5/
CATEGORIES:Vaišnavský kalendář
END:VEVENT
BEGIN:VEVENT
DTSTART;VALUE=DATE:20250831
DTEND;VALUE=DATE:20250901
DTSTAMP:20260419T141059
CREATED:20241104T154215Z
LAST-MODIFIED:20241104T154215Z
UID:72702-1756598400-1756684799@mahamantra.cz
SUMMARY:Rádháštamí – Příchod Šrímatí Rádhárání (půst do oběda)
DESCRIPTION:
URL:https://mahamantra.cz/event/radhastami-prichod-srimati-radharani-pust-do-obeda-5/
CATEGORIES:Vaišnavský kalendář
END:VEVENT
END:VCALENDAR