BEGIN:VCALENDAR
VERSION:2.0
PRODID:-//Šrí Šrí Nitái Navadvípačandra mandir - ECPv6.15.20//NONSGML v1.0//EN
CALSCALE:GREGORIAN
METHOD:PUBLISH
X-ORIGINAL-URL:https://mahamantra.cz
X-WR-CALDESC:Akce na Šrí Šrí Nitái Navadvípačandra mandir
REFRESH-INTERVAL;VALUE=DURATION:PT1H
X-Robots-Tag:noindex
X-PUBLISHED-TTL:PT1H
BEGIN:VTIMEZONE
TZID:Europe/Prague
BEGIN:DAYLIGHT
TZOFFSETFROM:+0100
TZOFFSETTO:+0200
TZNAME:CEST
DTSTART:20240331T010000
END:DAYLIGHT
BEGIN:STANDARD
TZOFFSETFROM:+0200
TZOFFSETTO:+0100
TZNAME:CET
DTSTART:20241027T010000
END:STANDARD
BEGIN:DAYLIGHT
TZOFFSETFROM:+0100
TZOFFSETTO:+0200
TZNAME:CEST
DTSTART:20250330T010000
END:DAYLIGHT
BEGIN:STANDARD
TZOFFSETFROM:+0200
TZOFFSETTO:+0100
TZNAME:CET
DTSTART:20251026T010000
END:STANDARD
BEGIN:DAYLIGHT
TZOFFSETFROM:+0100
TZOFFSETTO:+0200
TZNAME:CEST
DTSTART:20260329T010000
END:DAYLIGHT
BEGIN:STANDARD
TZOFFSETFROM:+0200
TZOFFSETTO:+0100
TZNAME:CET
DTSTART:20261025T010000
END:STANDARD
END:VTIMEZONE
BEGIN:VEVENT
DTSTART;VALUE=DATE:20251101
DTEND;VALUE=DATE:20251102
DTSTAMP:20260419T155110
CREATED:20241104T155725Z
LAST-MODIFIED:20241104T155725Z
UID:72764-1761955200-1762041599@mahamantra.cz
SUMMARY:Ékádaší (půst za Utthana Ékádaší)
DESCRIPTION:
URL:https://mahamantra.cz/event/ekadasi-pust-za-utthana-ekadasi-5/
CATEGORIES:Vaišnavský kalendář
END:VEVENT
BEGIN:VEVENT
DTSTART;VALUE=DATE:20251102
DTEND;VALUE=DATE:20251103
DTSTAMP:20260419T155110
CREATED:20241104T155752Z
LAST-MODIFIED:20241104T155752Z
UID:72766-1762041600-1762127999@mahamantra.cz
SUMMARY:Dvádaší\, přerušení: 08:26 - 10:08
DESCRIPTION:
URL:https://mahamantra.cz/event/dvadasi-preruseni-0826-1008/
CATEGORIES:Vaišnavský kalendář
END:VEVENT
BEGIN:VEVENT
DTSTART;VALUE=DATE:20251105
DTEND;VALUE=DATE:20251106
DTSTAMP:20260419T155110
CREATED:20241104T155807Z
LAST-MODIFIED:20241104T155807Z
UID:72767-1762300800-1762387199@mahamantra.cz
SUMMARY:Konec Čaturmásji
DESCRIPTION:
URL:https://mahamantra.cz/event/konec-caturmasji-6/
CATEGORIES:Vaišnavský kalendář
END:VEVENT
BEGIN:VEVENT
DTSTART;VALUE=DATE:20251105
DTEND;VALUE=DATE:20251106
DTSTAMP:20260419T155110
CREATED:20241104T155819Z
LAST-MODIFIED:20241104T155819Z
UID:72768-1762300800-1762387199@mahamantra.cz
SUMMARY:Tulasí-Šalagráma Viváha (svatba)\, Konec Kártiku
DESCRIPTION:
URL:https://mahamantra.cz/event/tulasi-salagrama-vivaha-svatba-konec-kartiku-3/
CATEGORIES:Vaišnavský kalendář
END:VEVENT
BEGIN:VEVENT
DTSTART;VALUE=DATE:20251115
DTEND;VALUE=DATE:20251116
DTSTAMP:20260419T155110
CREATED:20241104T155833Z
LAST-MODIFIED:20241104T155833Z
UID:72769-1763164800-1763251199@mahamantra.cz
SUMMARY:Ékádaší (nevhodné pro půst)
DESCRIPTION:
URL:https://mahamantra.cz/event/ekadasi-nevhodne-pro-pust-14/
CATEGORIES:Vaišnavský kalendář
END:VEVENT
BEGIN:VEVENT
DTSTART;VALUE=DATE:20251116
DTEND;VALUE=DATE:20251117
DTSTAMP:20260419T155110
CREATED:20241104T155847Z
LAST-MODIFIED:20241104T155847Z
UID:72770-1763251200-1763337599@mahamantra.cz
SUMMARY:Dvádaší (půst za Utpanna Ékádaší)
DESCRIPTION:
URL:https://mahamantra.cz/event/dvadasi-pust-za-utpanna-ekadasi-2/
CATEGORIES:Vaišnavský kalendář
END:VEVENT
BEGIN:VEVENT
DTSTART;VALUE=DATE:20251117
DTEND;VALUE=DATE:20251118
DTSTAMP:20260419T155110
CREATED:20241104T155900Z
LAST-MODIFIED:20241104T155900Z
UID:72771-1763337600-1763423999@mahamantra.cz
SUMMARY:Trajódaší\, přerušení: 07:18 - 10:17
DESCRIPTION:
URL:https://mahamantra.cz/event/trajodasi-preruseni-0718-1017/
CATEGORIES:Vaišnavský kalendář
END:VEVENT
END:VCALENDAR