BEGIN:VCALENDAR
VERSION:2.0
PRODID:-//Šrí Šrí Nitái Navadvípačandra mandir - ECPv6.15.20//NONSGML v1.0//EN
CALSCALE:GREGORIAN
METHOD:PUBLISH
X-ORIGINAL-URL:https://mahamantra.cz
X-WR-CALDESC:Akce na Šrí Šrí Nitái Navadvípačandra mandir
REFRESH-INTERVAL;VALUE=DURATION:PT1H
X-Robots-Tag:noindex
X-PUBLISHED-TTL:PT1H
BEGIN:VTIMEZONE
TZID:Europe/Prague
BEGIN:DAYLIGHT
TZOFFSETFROM:+0100
TZOFFSETTO:+0200
TZNAME:CEST
DTSTART:20250330T010000
END:DAYLIGHT
BEGIN:STANDARD
TZOFFSETFROM:+0200
TZOFFSETTO:+0100
TZNAME:CET
DTSTART:20251026T010000
END:STANDARD
BEGIN:DAYLIGHT
TZOFFSETFROM:+0100
TZOFFSETTO:+0200
TZNAME:CEST
DTSTART:20260329T010000
END:DAYLIGHT
BEGIN:STANDARD
TZOFFSETFROM:+0200
TZOFFSETTO:+0100
TZNAME:CET
DTSTART:20261025T010000
END:STANDARD
BEGIN:DAYLIGHT
TZOFFSETFROM:+0100
TZOFFSETTO:+0200
TZNAME:CEST
DTSTART:20270328T010000
END:DAYLIGHT
BEGIN:STANDARD
TZOFFSETFROM:+0200
TZOFFSETTO:+0100
TZNAME:CET
DTSTART:20271031T010000
END:STANDARD
END:VTIMEZONE
BEGIN:VEVENT
DTSTART;VALUE=DATE:20260303
DTEND;VALUE=DATE:20260304
DTSTAMP:20260419T154102
CREATED:20251029T143429Z
LAST-MODIFIED:20251029T143429Z
UID:73340-1772496000-1772582399@mahamantra.cz
SUMMARY:Gaura Púrnimá – Příchod Šrí Čaitanji Maháprabhua (půst do východu měsíce)
DESCRIPTION:
URL:https://mahamantra.cz/event/gaura-purnima-prichod-sri-caitanji-mahaprabhua-pust-do-vychodu-mesice-5/
CATEGORIES:Vaišnavský kalendář
END:VEVENT
BEGIN:VEVENT
DTSTART;VALUE=DATE:20260311
DTEND;VALUE=DATE:20260312
DTSTAMP:20260419T154102
CREATED:20251029T143451Z
LAST-MODIFIED:20251029T143451Z
UID:73341-1773187200-1773273599@mahamantra.cz
SUMMARY:Šrí Šrívása Pandita – Příchod
DESCRIPTION:
URL:https://mahamantra.cz/event/sri-srivasa-pandita-prichod-5/
CATEGORIES:Vaišnavský kalendář
END:VEVENT
BEGIN:VEVENT
DTSTART;VALUE=DATE:20260314
DTEND;VALUE=DATE:20260315
DTSTAMP:20260419T154102
CREATED:20251029T143505Z
LAST-MODIFIED:20251029T143505Z
UID:73342-1773446400-1773532799@mahamantra.cz
SUMMARY:Ékádaší (půst za Pápamóčaní Ékádaší)
DESCRIPTION:
URL:https://mahamantra.cz/event/ekadasi-pust-za-papamocani-ekadasi-5/
CATEGORIES:Vaišnavský kalendář
END:VEVENT
BEGIN:VEVENT
DTSTART;VALUE=DATE:20260315
DTEND;VALUE=DATE:20260316
DTSTAMP:20260419T154102
CREATED:20251029T143519Z
LAST-MODIFIED:20251029T143519Z
UID:73343-1773532800-1773619199@mahamantra.cz
SUMMARY:Dvádaší\, přerušení: od 10:55
DESCRIPTION:
URL:https://mahamantra.cz/event/dvadasi-preruseni-od-1055/
CATEGORIES:Vaišnavský kalendář
END:VEVENT
BEGIN:VEVENT
DTSTART;VALUE=DATE:20260323
DTEND;VALUE=DATE:20260324
DTSTAMP:20260419T154102
CREATED:20251029T143534Z
LAST-MODIFIED:20251029T143534Z
UID:73344-1774224000-1774310399@mahamantra.cz
SUMMARY:Šrí Rámánudžáčárja – Příchod
DESCRIPTION:
URL:https://mahamantra.cz/event/sri-ramanudzacarja-prichod-5/
CATEGORIES:Vaišnavský kalendář
END:VEVENT
BEGIN:VEVENT
DTSTART;VALUE=DATE:20260327
DTEND;VALUE=DATE:20260328
DTSTAMP:20260419T154102
CREATED:20251029T143551Z
LAST-MODIFIED:20251029T143551Z
UID:73345-1774569600-1774655999@mahamantra.cz
SUMMARY:Ráma Navamí – Příchod Pána Šrí Rámačandry (půst do západu Slunce)
DESCRIPTION:
URL:https://mahamantra.cz/event/rama-navami-prichod-pana-sri-ramacandry-pust-do-zapadu-slunce-5/
CATEGORIES:Vaišnavský kalendář
END:VEVENT
BEGIN:VEVENT
DTSTART;VALUE=DATE:20260328
DTEND;VALUE=DATE:20260329
DTSTAMP:20260419T154102
CREATED:20251029T143620Z
LAST-MODIFIED:20251029T143620Z
UID:73346-1774656000-1774742399@mahamantra.cz
SUMMARY:Ékádaší (nevhodné pro půst)
DESCRIPTION:
URL:https://mahamantra.cz/event/ekadasi-nevhodne-pro-pust-15/
CATEGORIES:Vaišnavský kalendář
END:VEVENT
BEGIN:VEVENT
DTSTART;VALUE=DATE:20260329
DTEND;VALUE=DATE:20260330
DTSTAMP:20260419T154102
CREATED:20251029T143639Z
LAST-MODIFIED:20251029T143639Z
UID:73347-1774742400-1774828799@mahamantra.cz
SUMMARY:Dvádaší (půst za Kámada Ékádaší)
DESCRIPTION:
URL:https://mahamantra.cz/event/dvadasi-pust-za-kamada-ekadasi-2/
CATEGORIES:Vaišnavský kalendář
END:VEVENT
BEGIN:VEVENT
DTSTART;VALUE=DATE:20260330
DTEND;VALUE=DATE:20260331
DTSTAMP:20260419T154102
CREATED:20251029T143653Z
LAST-MODIFIED:20251029T143653Z
UID:73348-1774828800-1774915199@mahamantra.cz
SUMMARY:Trajódaší\, přerušení: 06:43 - 10:59
DESCRIPTION:
URL:https://mahamantra.cz/event/trajodasi-preruseni-0643-1059/
CATEGORIES:Vaišnavský kalendář
END:VEVENT
END:VCALENDAR