BEGIN:VCALENDAR
VERSION:2.0
PRODID:-//Šrí Šrí Nitái Navadvípačandra mandir - ECPv6.15.20//NONSGML v1.0//EN
CALSCALE:GREGORIAN
METHOD:PUBLISH
X-WR-CALNAME:Šrí Šrí Nitái Navadvípačandra mandir
X-ORIGINAL-URL:https://mahamantra.cz
X-WR-CALDESC:Akce na Šrí Šrí Nitái Navadvípačandra mandir
REFRESH-INTERVAL;VALUE=DURATION:PT1H
X-Robots-Tag:noindex
X-PUBLISHED-TTL:PT1H
BEGIN:VTIMEZONE
TZID:Europe/Prague
BEGIN:DAYLIGHT
TZOFFSETFROM:+0100
TZOFFSETTO:+0200
TZNAME:CEST
DTSTART:20250330T010000
END:DAYLIGHT
BEGIN:STANDARD
TZOFFSETFROM:+0200
TZOFFSETTO:+0100
TZNAME:CET
DTSTART:20251026T010000
END:STANDARD
BEGIN:DAYLIGHT
TZOFFSETFROM:+0100
TZOFFSETTO:+0200
TZNAME:CEST
DTSTART:20260329T010000
END:DAYLIGHT
BEGIN:STANDARD
TZOFFSETFROM:+0200
TZOFFSETTO:+0100
TZNAME:CET
DTSTART:20261025T010000
END:STANDARD
BEGIN:DAYLIGHT
TZOFFSETFROM:+0100
TZOFFSETTO:+0200
TZNAME:CEST
DTSTART:20270328T010000
END:DAYLIGHT
BEGIN:STANDARD
TZOFFSETFROM:+0200
TZOFFSETTO:+0100
TZNAME:CET
DTSTART:20271031T010000
END:STANDARD
END:VTIMEZONE
BEGIN:VEVENT
DTSTART;VALUE=DATE:20260501
DTEND;VALUE=DATE:20260502
DTSTAMP:20260419T154034
CREATED:20251029T144338Z
LAST-MODIFIED:20251029T144338Z
UID:73374-1777593600-1777679999@mahamantra.cz
SUMMARY:Šrí Mádhavéndra Purí – Příchod\, Šrí Šrínivása Áčárja – Příchod
DESCRIPTION:
URL:https://mahamantra.cz/event/sri-madhavendra-puri-prichod-sri-srinivasa-acarja-prichod-4/
CATEGORIES:Vaišnavský kalendář
END:VEVENT
BEGIN:VEVENT
DTSTART;VALUE=DATE:20260506
DTEND;VALUE=DATE:20260507
DTSTAMP:20260419T154034
CREATED:20251029T144414Z
LAST-MODIFIED:20251029T144414Z
UID:73375-1778025600-1778111999@mahamantra.cz
SUMMARY:Šrí Rámánanda Rája – Odchod
DESCRIPTION:
URL:https://mahamantra.cz/event/sri-ramananda-raja-odchod-5/
CATEGORIES:Vaišnavský kalendář
END:VEVENT
BEGIN:VEVENT
DTSTART;VALUE=DATE:20260513
DTEND;VALUE=DATE:20260514
DTSTAMP:20260419T154034
CREATED:20251029T144437Z
LAST-MODIFIED:20251029T144437Z
UID:73376-1778630400-1778716799@mahamantra.cz
SUMMARY:Ékádaší (půst za Apará Ékádaší)
DESCRIPTION:
URL:https://mahamantra.cz/event/ekadasi-pust-za-apara-ekadasi-5/
CATEGORIES:Vaišnavský kalendář
END:VEVENT
BEGIN:VEVENT
DTSTART;VALUE=DATE:20260514
DTEND;VALUE=DATE:20260515
DTSTAMP:20260419T154034
CREATED:20251029T144458Z
LAST-MODIFIED:20251029T144458Z
UID:73377-1778716800-1778803199@mahamantra.cz
SUMMARY:Dvádaší\, přerušení: 05:17 - 07:53
DESCRIPTION:
URL:https://mahamantra.cz/event/dvadasi-preruseni-0517-0753/
CATEGORIES:Vaišnavský kalendář
END:VEVENT
BEGIN:VEVENT
DTSTART;VALUE=DATE:20260526
DTEND;VALUE=DATE:20260527
DTSTAMP:20260419T154034
CREATED:20251029T145138Z
LAST-MODIFIED:20251029T145138Z
UID:73390-1779753600-1779839999@mahamantra.cz
SUMMARY:Ékádaší (pust za Padmini Ékádaší)
DESCRIPTION:
URL:https://mahamantra.cz/event/ekadasi-pust-za-padmini-ekadasi-4/
CATEGORIES:Vaišnavský kalendář
END:VEVENT
BEGIN:VEVENT
DTSTART;VALUE=DATE:20260527
DTEND;VALUE=DATE:20260528
DTSTAMP:20260419T154034
CREATED:20251029T145157Z
LAST-MODIFIED:20251029T145157Z
UID:73391-1779840000-1779926399@mahamantra.cz
SUMMARY:Dvádaší\, přerušení: 09:18 - 10:20
DESCRIPTION:
URL:https://mahamantra.cz/event/dvadasi-preruseni-0918-1020/
CATEGORIES:Vaišnavský kalendář
END:VEVENT
END:VCALENDAR