BEGIN:VCALENDAR
VERSION:2.0
PRODID:-//Šrí Šrí Nitái Navadvípačandra mandir - ECPv6.15.20//NONSGML v1.0//EN
CALSCALE:GREGORIAN
METHOD:PUBLISH
X-WR-CALNAME:Šrí Šrí Nitái Navadvípačandra mandir
X-ORIGINAL-URL:https://mahamantra.cz
X-WR-CALDESC:Akce na Šrí Šrí Nitái Navadvípačandra mandir
REFRESH-INTERVAL;VALUE=DURATION:PT1H
X-Robots-Tag:noindex
X-PUBLISHED-TTL:PT1H
BEGIN:VTIMEZONE
TZID:Europe/Prague
BEGIN:DAYLIGHT
TZOFFSETFROM:+0100
TZOFFSETTO:+0200
TZNAME:CEST
DTSTART:20250330T010000
END:DAYLIGHT
BEGIN:STANDARD
TZOFFSETFROM:+0200
TZOFFSETTO:+0100
TZNAME:CET
DTSTART:20251026T010000
END:STANDARD
BEGIN:DAYLIGHT
TZOFFSETFROM:+0100
TZOFFSETTO:+0200
TZNAME:CEST
DTSTART:20260329T010000
END:DAYLIGHT
BEGIN:STANDARD
TZOFFSETFROM:+0200
TZOFFSETTO:+0100
TZNAME:CET
DTSTART:20261025T010000
END:STANDARD
BEGIN:DAYLIGHT
TZOFFSETFROM:+0100
TZOFFSETTO:+0200
TZNAME:CEST
DTSTART:20270328T010000
END:DAYLIGHT
BEGIN:STANDARD
TZOFFSETFROM:+0200
TZOFFSETTO:+0100
TZNAME:CET
DTSTART:20271031T010000
END:STANDARD
END:VTIMEZONE
BEGIN:VEVENT
DTSTART;VALUE=DATE:20260611
DTEND;VALUE=DATE:20260612
DTSTAMP:20260419T172009
CREATED:20251029T145227Z
LAST-MODIFIED:20251029T145227Z
UID:73392-1781136000-1781222399@mahamantra.cz
SUMMARY:Ékádaší (pust za Parama Ékádaší)
DESCRIPTION:
URL:https://mahamantra.cz/event/ekadasi-pust-za-parama-ekadasi-3/
CATEGORIES:Vaišnavský kalendář
END:VEVENT
BEGIN:VEVENT
DTSTART;VALUE=DATE:20260612
DTEND;VALUE=DATE:20260613
DTSTAMP:20260419T172009
CREATED:20251029T145238Z
LAST-MODIFIED:20251029T145238Z
UID:73393-1781222400-1781308799@mahamantra.cz
SUMMARY:Dvádaší\, přerušení: 04:52 - 10:19
DESCRIPTION:
URL:https://mahamantra.cz/event/dvadasi-preruseni-0452-1019-3/
CATEGORIES:Vaišnavský kalendář
END:VEVENT
BEGIN:VEVENT
DTSTART;VALUE=DATE:20260612
DTEND;VALUE=DATE:20260613
DTSTAMP:20260419T172009
CREATED:20251029T145536Z
LAST-MODIFIED:20251029T145536Z
UID:73403-1781222400-1781308799@mahamantra.cz
SUMMARY:Trajódaší\, přerušení: 05:06 - 10:27
DESCRIPTION:
URL:https://mahamantra.cz/event/trajodasi-preruseni-0506-1027/
CATEGORIES:Vaišnavský kalendář
END:VEVENT
BEGIN:VEVENT
DTSTART;VALUE=DATE:20260624
DTEND;VALUE=DATE:20260625
DTSTAMP:20260419T172009
CREATED:20251029T145254Z
LAST-MODIFIED:20251029T145254Z
UID:73394-1782259200-1782345599@mahamantra.cz
SUMMARY:Šrí Baladéva Vidjábhúšana – Odchod
DESCRIPTION:
URL:https://mahamantra.cz/event/sri-baladeva-vidjabhusana-odchod-6/
CATEGORIES:Vaišnavský kalendář
END:VEVENT
BEGIN:VEVENT
DTSTART;VALUE=DATE:20260625
DTEND;VALUE=DATE:20260626
DTSTAMP:20260419T172009
CREATED:20251029T145310Z
LAST-MODIFIED:20251029T145310Z
UID:73395-1782345600-1782431999@mahamantra.cz
SUMMARY:Ékádaší (Pándava Nirdžala Ékádaší)
DESCRIPTION:
URL:https://mahamantra.cz/event/ekadasi-pandava-nirdzala-ekadasi-2/
CATEGORIES:Vaišnavský kalendář
END:VEVENT
BEGIN:VEVENT
DTSTART;VALUE=DATE:20260626
DTEND;VALUE=DATE:20260627
DTSTAMP:20260419T172009
CREATED:20251029T145329Z
LAST-MODIFIED:20251029T145329Z
UID:73396-1782432000-1782518399@mahamantra.cz
SUMMARY:Dvádaší\, přerušení: 04:54 - 10:21
DESCRIPTION:
URL:https://mahamantra.cz/event/dvadasi-preruseni-0454-1021/
CATEGORIES:Vaišnavský kalendář
END:VEVENT
BEGIN:VEVENT
DTSTART;VALUE=DATE:20260629
DTEND;VALUE=DATE:20260630
DTSTAMP:20260419T172009
CREATED:20251029T145343Z
LAST-MODIFIED:20251029T145343Z
UID:73397-1782691200-1782777599@mahamantra.cz
SUMMARY:Šrí Mukunda Datta – Odchod\, Šrí Šrídhara Pandita – Odchod
DESCRIPTION:
URL:https://mahamantra.cz/event/sri-mukunda-datta-odchod-sri-sridhara-pandita-odchod-3/
CATEGORIES:Vaišnavský kalendář
END:VEVENT
BEGIN:VEVENT
DTSTART;VALUE=DATE:20260630
DTEND;VALUE=DATE:20260701
DTSTAMP:20260419T172009
CREATED:20251029T145356Z
LAST-MODIFIED:20251029T145356Z
UID:73398-1782777600-1782863999@mahamantra.cz
SUMMARY:Šrí Šjámánanda Prabhu – Odchod
DESCRIPTION:
URL:https://mahamantra.cz/event/sri-sjamananda-prabhu-odchod-6/
CATEGORIES:Vaišnavský kalendář
END:VEVENT
END:VCALENDAR