BEGIN:VCALENDAR
VERSION:2.0
PRODID:-//Šrí Šrí Nitái Navadvípačandra mandir - ECPv6.15.20//NONSGML v1.0//EN
CALSCALE:GREGORIAN
METHOD:PUBLISH
X-ORIGINAL-URL:https://mahamantra.cz
X-WR-CALDESC:Akce na Šrí Šrí Nitái Navadvípačandra mandir
REFRESH-INTERVAL;VALUE=DURATION:PT1H
X-Robots-Tag:noindex
X-PUBLISHED-TTL:PT1H
BEGIN:VTIMEZONE
TZID:Europe/Prague
BEGIN:DAYLIGHT
TZOFFSETFROM:+0100
TZOFFSETTO:+0200
TZNAME:CEST
DTSTART:20250330T010000
END:DAYLIGHT
BEGIN:STANDARD
TZOFFSETFROM:+0200
TZOFFSETTO:+0100
TZNAME:CET
DTSTART:20251026T010000
END:STANDARD
BEGIN:DAYLIGHT
TZOFFSETFROM:+0100
TZOFFSETTO:+0200
TZNAME:CEST
DTSTART:20260329T010000
END:DAYLIGHT
BEGIN:STANDARD
TZOFFSETFROM:+0200
TZOFFSETTO:+0100
TZNAME:CET
DTSTART:20261025T010000
END:STANDARD
BEGIN:DAYLIGHT
TZOFFSETFROM:+0100
TZOFFSETTO:+0200
TZNAME:CEST
DTSTART:20270328T010000
END:DAYLIGHT
BEGIN:STANDARD
TZOFFSETFROM:+0200
TZOFFSETTO:+0100
TZNAME:CET
DTSTART:20271031T010000
END:STANDARD
END:VTIMEZONE
BEGIN:VEVENT
DTSTART;VALUE=DATE:20260803
DTEND;VALUE=DATE:20260804
DTSTAMP:20260419T203145
CREATED:20251029T150011Z
LAST-MODIFIED:20251029T150011Z
UID:73425-1785715200-1785801599@mahamantra.cz
SUMMARY:Šríla Gópála Bhatta Gósvámí – Odchod
DESCRIPTION:
URL:https://mahamantra.cz/event/srila-gopala-bhatta-gosvami-odchod-6/
CATEGORIES:Vaišnavský kalendář
END:VEVENT
BEGIN:VEVENT
DTSTART;VALUE=DATE:20260806
DTEND;VALUE=DATE:20260807
DTSTAMP:20260419T203145
CREATED:20251029T150024Z
LAST-MODIFIED:20251029T150024Z
UID:73426-1785974400-1786060799@mahamantra.cz
SUMMARY:Šríla Lókanátha Gósvámí – Odchod
DESCRIPTION:
URL:https://mahamantra.cz/event/srila-lokanatha-gosvami-odchod-6/
CATEGORIES:Vaišnavský kalendář
END:VEVENT
BEGIN:VEVENT
DTSTART;VALUE=DATE:20260807
DTEND;VALUE=DATE:20260808
DTSTAMP:20260419T203145
CREATED:20251029T150037Z
LAST-MODIFIED:20251029T150037Z
UID:73427-1786060800-1786147199@mahamantra.cz
SUMMARY:Založení ISKCONu v New Yorku v roce 1966
DESCRIPTION:
URL:https://mahamantra.cz/event/zalozeni-iskconu-v-new-yorku-v-roce-1966-6/
CATEGORIES:Vaišnavský kalendář
END:VEVENT
BEGIN:VEVENT
DTSTART;VALUE=DATE:20260809
DTEND;VALUE=DATE:20260810
DTSTAMP:20260419T203145
CREATED:20251029T150429Z
LAST-MODIFIED:20251029T150429Z
UID:73438-1786233600-1786319999@mahamantra.cz
SUMMARY:Ékádaší (půst za Kamika Ékádaší)
DESCRIPTION:
URL:https://mahamantra.cz/event/ekadasi-pust-za-kamika-ekadasi-7/
CATEGORIES:Vaišnavský kalendář
END:VEVENT
BEGIN:VEVENT
DTSTART;VALUE=DATE:20260810
DTEND;VALUE=DATE:20260811
DTSTAMP:20260419T203145
CREATED:20251029T150440Z
LAST-MODIFIED:20251029T150440Z
UID:73439-1786320000-1786406399@mahamantra.cz
SUMMARY:Trajódaší\, přerušení: 05:44 - 10:39
DESCRIPTION:
URL:https://mahamantra.cz/event/trajodasi-preruseni-0544-1039/
CATEGORIES:Vaišnavský kalendář
END:VEVENT
BEGIN:VEVENT
DTSTART;VALUE=DATE:20260819
DTEND;VALUE=DATE:20260820
DTSTAMP:20260419T203145
CREATED:20251029T150759Z
LAST-MODIFIED:20251029T150759Z
UID:73452-1787097600-1787183999@mahamantra.cz
SUMMARY:Rádháštamí – Příchod Šrímatí Rádhárání (půst do oběda)
DESCRIPTION:
URL:https://mahamantra.cz/event/radhastami-prichod-srimati-radharani-pust-do-obeda-6/
CATEGORIES:Vaišnavský kalendář
END:VEVENT
BEGIN:VEVENT
DTSTART;VALUE=DATE:20260823
DTEND;VALUE=DATE:20260824
DTSTAMP:20260419T203145
CREATED:20251029T150458Z
LAST-MODIFIED:20251029T150458Z
UID:73440-1787443200-1787529599@mahamantra.cz
SUMMARY:Ékádaší (nevhodné pro půst)
DESCRIPTION:
URL:https://mahamantra.cz/event/ekadasi-nevhodne-pro-pust-17/
CATEGORIES:Vaišnavský kalendář
END:VEVENT
BEGIN:VEVENT
DTSTART;VALUE=DATE:20260824
DTEND;VALUE=DATE:20260825
DTSTAMP:20260419T203145
CREATED:20251029T150510Z
LAST-MODIFIED:20251029T150510Z
UID:73441-1787529600-1787615999@mahamantra.cz
SUMMARY:Dvádaší (půst za Pavitrópana Ékádaší)
DESCRIPTION:
URL:https://mahamantra.cz/event/dvadasi-pust-za-pavitropana-ekadasi/
CATEGORIES:Vaišnavský kalendář
END:VEVENT
BEGIN:VEVENT
DTSTART;VALUE=DATE:20260824
DTEND;VALUE=DATE:20260825
DTSTAMP:20260419T203145
CREATED:20251029T150521Z
LAST-MODIFIED:20251029T150521Z
UID:73442-1787529600-1787615999@mahamantra.cz
SUMMARY:Šríla Rúpa Gósvámí – Odchod
DESCRIPTION:
URL:https://mahamantra.cz/event/srila-rupa-gosvami-odchod-6/
CATEGORIES:Vaišnavský kalendář
END:VEVENT
BEGIN:VEVENT
DTSTART;VALUE=DATE:20260825
DTEND;VALUE=DATE:20260826
DTSTAMP:20260419T203145
CREATED:20251029T150537Z
LAST-MODIFIED:20251029T150537Z
UID:73443-1787616000-1787702399@mahamantra.cz
SUMMARY:Trajódaší\, přerušení: 06:06 - 10:44
DESCRIPTION:
URL:https://mahamantra.cz/event/trajodasi-preruseni-0606-1044/
CATEGORIES:Vaišnavský kalendář
END:VEVENT
BEGIN:VEVENT
DTSTART;VALUE=DATE:20260827
DTEND;VALUE=DATE:20260828
DTSTAMP:20260419T203145
CREATED:20251029T150551Z
LAST-MODIFIED:20251029T150551Z
UID:73444-1787788800-1787875199@mahamantra.cz
SUMMARY:Začíná 2. měsíc Čáturmásji (půst od jogurtu)
DESCRIPTION:
URL:https://mahamantra.cz/event/zacina-2-mesic-caturmasji-pust-od-jogurtu-6/
CATEGORIES:Vaišnavský kalendář
END:VEVENT
BEGIN:VEVENT
DTSTART;VALUE=DATE:20260827
DTEND;VALUE=DATE:20260828
DTSTAMP:20260419T203145
CREATED:20251029T150608Z
LAST-MODIFIED:20251029T150608Z
UID:73445-1787788800-1787875199@mahamantra.cz
SUMMARY:Příchod Pána Balaráma (půst do oběda)
DESCRIPTION:
URL:https://mahamantra.cz/event/prichod-pana-balarama-pust-do-obeda-5/
CATEGORIES:Vaišnavský kalendář
END:VEVENT
BEGIN:VEVENT
DTSTART;VALUE=DATE:20260829
DTEND;VALUE=DATE:20260830
DTSTAMP:20260419T203145
CREATED:20251029T150621Z
LAST-MODIFIED:20251029T150621Z
UID:73446-1787961600-1788047999@mahamantra.cz
SUMMARY:Odjezd Šríly Prabhupády do USA
DESCRIPTION:
URL:https://mahamantra.cz/event/odjezd-srily-prabhupady-do-usa-5/
CATEGORIES:Vaišnavský kalendář
END:VEVENT
END:VCALENDAR