BEGIN:VCALENDAR
VERSION:2.0
PRODID:-//Šrí Šrí Nitái Navadvípačandra mandir - ECPv6.15.20//NONSGML v1.0//EN
CALSCALE:GREGORIAN
METHOD:PUBLISH
X-WR-CALNAME:Šrí Šrí Nitái Navadvípačandra mandir
X-ORIGINAL-URL:https://mahamantra.cz
X-WR-CALDESC:Akce na Šrí Šrí Nitái Navadvípačandra mandir
REFRESH-INTERVAL;VALUE=DURATION:PT1H
X-Robots-Tag:noindex
X-PUBLISHED-TTL:PT1H
BEGIN:VTIMEZONE
TZID:Europe/Prague
BEGIN:DAYLIGHT
TZOFFSETFROM:+0100
TZOFFSETTO:+0200
TZNAME:CEST
DTSTART:20240331T010000
END:DAYLIGHT
BEGIN:STANDARD
TZOFFSETFROM:+0200
TZOFFSETTO:+0100
TZNAME:CET
DTSTART:20241027T010000
END:STANDARD
BEGIN:DAYLIGHT
TZOFFSETFROM:+0100
TZOFFSETTO:+0200
TZNAME:CEST
DTSTART:20250330T010000
END:DAYLIGHT
BEGIN:STANDARD
TZOFFSETFROM:+0200
TZOFFSETTO:+0100
TZNAME:CET
DTSTART:20251026T010000
END:STANDARD
BEGIN:DAYLIGHT
TZOFFSETFROM:+0100
TZOFFSETTO:+0200
TZNAME:CEST
DTSTART:20260329T010000
END:DAYLIGHT
BEGIN:STANDARD
TZOFFSETFROM:+0200
TZOFFSETTO:+0100
TZNAME:CET
DTSTART:20261025T010000
END:STANDARD
END:VTIMEZONE
BEGIN:VEVENT
DTSTART;VALUE=DATE:20250409
DTEND;VALUE=DATE:20250410
DTSTAMP:20260420T043306
CREATED:20241104T151745Z
LAST-MODIFIED:20241104T151745Z
UID:72612-1744156800-1744243199@mahamantra.cz
SUMMARY:Dvádaší\, přerušení: 06:21 - 10:50
DESCRIPTION:
URL:https://mahamantra.cz/event/dvadasi-preruseni-0621-1050/
CATEGORIES:Vaišnavský kalendář
END:VEVENT
BEGIN:VEVENT
DTSTART;VALUE=DATE:20250408
DTEND;VALUE=DATE:20250409
DTSTAMP:20260420T043306
CREATED:20241104T151732Z
LAST-MODIFIED:20241104T151732Z
UID:72611-1744070400-1744156799@mahamantra.cz
SUMMARY:Ékádaší (půst za Kámada Ékádaší)
DESCRIPTION:
URL:https://mahamantra.cz/event/ekadasi-pust-za-kamada-ekadasi-2/
CATEGORIES:Vaišnavský kalendář
END:VEVENT
BEGIN:VEVENT
DTSTART;VALUE=DATE:20250406
DTEND;VALUE=DATE:20250407
DTSTAMP:20260420T043306
CREATED:20241104T151716Z
LAST-MODIFIED:20241104T151716Z
UID:72610-1743897600-1743983999@mahamantra.cz
SUMMARY:Ráma Navamí – Příchod Pána Šrí Rámačandry (půst do západu slunce)
DESCRIPTION:
URL:https://mahamantra.cz/event/rama-navami-prichod-pana-sri-ramacandry-pust-do-zapadu-slunce-4/
CATEGORIES:Vaišnavský kalendář
END:VEVENT
BEGIN:VEVENT
DTSTART;VALUE=DATE:20250402
DTEND;VALUE=DATE:20250403
DTSTAMP:20260420T043306
CREATED:20241104T151701Z
LAST-MODIFIED:20241104T151701Z
UID:72609-1743552000-1743638399@mahamantra.cz
SUMMARY:Šrí Rámánudžáčárja – Příchod
DESCRIPTION:
URL:https://mahamantra.cz/event/sri-ramanudzacarja-prichod-4/
CATEGORIES:Vaišnavský kalendář
END:VEVENT
BEGIN:VEVENT
DTSTART;VALUE=DATE:20250326
DTEND;VALUE=DATE:20250327
DTSTAMP:20260420T043306
CREATED:20241104T151450Z
LAST-MODIFIED:20241104T151450Z
UID:72600-1742947200-1743033599@mahamantra.cz
SUMMARY:Dvádaší\, přerušení: 05:51 - 10:02
DESCRIPTION:
URL:https://mahamantra.cz/event/dvadasi-preruseni-0551-1002/
CATEGORIES:Vaišnavský kalendář
END:VEVENT
BEGIN:VEVENT
DTSTART;VALUE=DATE:20250325
DTEND;VALUE=DATE:20250326
DTSTAMP:20260420T043306
CREATED:20241104T151437Z
LAST-MODIFIED:20241104T151437Z
UID:72599-1742860800-1742947199@mahamantra.cz
SUMMARY:Ékádaší (půst za Pápamóčaní Ékádaší)
DESCRIPTION:
URL:https://mahamantra.cz/event/ekadasi-pust-za-papamocani-ekadasi-4/
CATEGORIES:Vaišnavský kalendář
END:VEVENT
BEGIN:VEVENT
DTSTART;VALUE=DATE:20250322
DTEND;VALUE=DATE:20250323
DTSTAMP:20260420T043306
CREATED:20241104T151424Z
LAST-MODIFIED:20241104T151424Z
UID:72598-1742601600-1742687999@mahamantra.cz
SUMMARY:Šrí Šrívasa Pandita – Příchod
DESCRIPTION:
URL:https://mahamantra.cz/event/sri-srivasa-pandita-prichod-4/
CATEGORIES:Vaišnavský kalendář
END:VEVENT
BEGIN:VEVENT
DTSTART;VALUE=DATE:20250313
DTEND;VALUE=DATE:20250314
DTSTAMP:20260420T043306
CREATED:20241104T151409Z
LAST-MODIFIED:20241104T151409Z
UID:72597-1741824000-1741910399@mahamantra.cz
SUMMARY:Gaura Púrnimá – Příchod Šrí Čaitanji Maháprabhua (půst do východu měsíce)
DESCRIPTION:
URL:https://mahamantra.cz/event/gaura-purnima-prichod-sri-caitanji-mahaprabhua-pust-do-vychodu-mesice-4/
CATEGORIES:Vaišnavský kalendář
END:VEVENT
BEGIN:VEVENT
DTSTART;VALUE=DATE:20250311
DTEND;VALUE=DATE:20250312
DTSTAMP:20260420T043306
CREATED:20241104T151357Z
LAST-MODIFIED:20241104T151357Z
UID:72596-1741651200-1741737599@mahamantra.cz
SUMMARY:Trajódašíaší\, přerušení: 06:24 - 10:16
DESCRIPTION:
URL:https://mahamantra.cz/event/trajodasiasi-preruseni-0624-1016/
CATEGORIES:Vaišnavský kalendář
END:VEVENT
BEGIN:VEVENT
DTSTART;VALUE=DATE:20250310
DTEND;VALUE=DATE:20250311
DTSTAMP:20260420T043306
CREATED:20241104T151346Z
LAST-MODIFIED:20241104T151346Z
UID:72595-1741564800-1741651199@mahamantra.cz
SUMMARY:Šrí Mádhavéndra Purí – Odchod
DESCRIPTION:
URL:https://mahamantra.cz/event/sri-madhavendra-puri-odchod-4/
CATEGORIES:Vaišnavský kalendář
END:VEVENT
BEGIN:VEVENT
DTSTART;VALUE=DATE:20250310
DTEND;VALUE=DATE:20250311
DTSTAMP:20260420T043306
CREATED:20241104T151335Z
LAST-MODIFIED:20241104T151335Z
UID:72594-1741564800-1741651199@mahamantra.cz
SUMMARY:Dvádaší (půst za Ámalakí vrata Ékádaší)
DESCRIPTION:
URL:https://mahamantra.cz/event/dvadasi-pust-za-amalaki-vrata-ekadasi-2/
CATEGORIES:Vaišnavský kalendář
END:VEVENT
BEGIN:VEVENT
DTSTART;VALUE=DATE:20250309
DTEND;VALUE=DATE:20250310
DTSTAMP:20260420T043306
CREATED:20241104T151315Z
LAST-MODIFIED:20241104T151315Z
UID:72593-1741478400-1741564799@mahamantra.cz
SUMMARY:Ékádaší (nevhodné pro půst)
DESCRIPTION:
URL:https://mahamantra.cz/event/ekadasi-nevhodne-pro-pust-7/
CATEGORIES:Vaišnavský kalendář
END:VEVENT
BEGIN:VEVENT
DTSTART;VALUE=DATE:20250228
DTEND;VALUE=DATE:20250301
DTSTAMP:20260420T043306
CREATED:20241104T151116Z
LAST-MODIFIED:20241104T151116Z
UID:72585-1740700800-1740787199@mahamantra.cz
SUMMARY:Šríla Džagannátha Dása Bábádží – Odchod
DESCRIPTION:
URL:https://mahamantra.cz/event/srila-dzagannatha-dasa-babadzi-odchod-3/
CATEGORIES:Vaišnavský kalendář
END:VEVENT
BEGIN:VEVENT
DTSTART;VALUE=DATE:20250225
DTEND;VALUE=DATE:20250226
DTSTAMP:20260420T043306
CREATED:20241104T151105Z
LAST-MODIFIED:20241104T151105Z
UID:72584-1740441600-1740527999@mahamantra.cz
SUMMARY:Šrí Íšvara Purí – Odchod
DESCRIPTION:
URL:https://mahamantra.cz/event/sri-isvara-puri-odchod-4/
CATEGORIES:Vaišnavský kalendář
END:VEVENT
BEGIN:VEVENT
DTSTART;VALUE=DATE:20250225
DTEND;VALUE=DATE:20250226
DTSTAMP:20260420T043306
CREATED:20241104T151035Z
LAST-MODIFIED:20241104T151035Z
UID:72583-1740441600-1740527999@mahamantra.cz
SUMMARY:Dvádaší\, přerušení: 06:53 - 08:20
DESCRIPTION:
URL:https://mahamantra.cz/event/dvadasi-preruseni-0653-0820/
CATEGORIES:Vaišnavský kalendář
END:VEVENT
BEGIN:VEVENT
DTSTART;VALUE=DATE:20250224
DTEND;VALUE=DATE:20250225
DTSTAMP:20260420T043306
CREATED:20241104T151020Z
LAST-MODIFIED:20241104T151020Z
UID:72582-1740355200-1740441599@mahamantra.cz
SUMMARY:Ékádaší (půst za Vidžaja Ékádaší)
DESCRIPTION:
URL:https://mahamantra.cz/event/ekadasi-pust-za-vidzaja-ekadasi-4/
CATEGORIES:Vaišnavský kalendář
END:VEVENT
BEGIN:VEVENT
DTSTART;VALUE=DATE:20250217
DTEND;VALUE=DATE:20250218
DTSTAMP:20260420T043306
CREATED:20241104T150957Z
LAST-MODIFIED:20241104T150957Z
UID:72581-1739750400-1739836799@mahamantra.cz
SUMMARY:Šríla Bhaktisiddhánta Sarasvatí Thákura – Příchod (půst do oběda)
DESCRIPTION:
URL:https://mahamantra.cz/event/srila-bhaktisiddhanta-sarasvati-thakura-prichod-pust-do-obeda-4/
CATEGORIES:Vaišnavský kalendář
END:VEVENT
BEGIN:VEVENT
DTSTART;VALUE=DATE:20250212
DTEND;VALUE=DATE:20250213
DTSTAMP:20260420T043306
CREATED:20241104T150944Z
LAST-MODIFIED:20241104T150944Z
UID:72580-1739318400-1739404799@mahamantra.cz
SUMMARY:Šríla Naróttama Dása Thákura – Příchod
DESCRIPTION:
URL:https://mahamantra.cz/event/srila-narottama-dasa-thakura-prichod-4/
CATEGORIES:Vaišnavský kalendář
END:VEVENT
BEGIN:VEVENT
DTSTART;VALUE=DATE:20250210
DTEND;VALUE=DATE:20250211
DTSTAMP:20260420T043306
CREATED:20241104T150804Z
LAST-MODIFIED:20241104T150921Z
UID:72579-1739145600-1739231999@mahamantra.cz
SUMMARY:Nitjánanda Trajódaší – Příchod Pána Šrí Nitjánandy Prabhua (půst do oběda)
DESCRIPTION:
URL:https://mahamantra.cz/event/nitjananda-trajodasi-prichod-pana-sri-nitjanandy-prabhua-pust-do-obeda-5/
CATEGORIES:Vaišnavský kalendář
END:VEVENT
BEGIN:VEVENT
DTSTART;VALUE=DATE:20250209
DTEND;VALUE=DATE:20250210
DTSTAMP:20260420T043306
CREATED:20241104T150654Z
LAST-MODIFIED:20241104T150654Z
UID:72571-1739059200-1739145599@mahamantra.cz
SUMMARY:Varáha Dvádaší – Příchod Pána Várahadéva (půst se držel včera)
DESCRIPTION:
URL:https://mahamantra.cz/event/varaha-dvadasi-prichod-pana-varahadeva-pust-se-drzel-vcera-5/
CATEGORIES:Vaišnavský kalendář
END:VEVENT
BEGIN:VEVENT
DTSTART;VALUE=DATE:20250209
DTEND;VALUE=DATE:20250210
DTSTAMP:20260420T043306
CREATED:20241104T150627Z
LAST-MODIFIED:20241104T150627Z
UID:72570-1739059200-1739145599@mahamantra.cz
SUMMARY:Dvádaší\, přerušení: 07:23 - 10:38
DESCRIPTION:
URL:https://mahamantra.cz/event/dvadasi-preruseni-0723-1038/
CATEGORIES:Vaišnavský kalendář
END:VEVENT
BEGIN:VEVENT
DTSTART;VALUE=DATE:20250208
DTEND;VALUE=DATE:20250209
DTSTAMP:20260420T043306
CREATED:20241104T150611Z
LAST-MODIFIED:20241104T150611Z
UID:72569-1738972800-1739059199@mahamantra.cz
SUMMARY:Ékádaší (půst za Bhaimí Ékádaší)\, půst do oběda (za Pána Várahadéva)
DESCRIPTION:
URL:https://mahamantra.cz/event/ekadasi-pust-za-bhaimi-ekadasi-pust-do-obeda-za-pana-varahadeva-3/
CATEGORIES:Vaišnavský kalendář
END:VEVENT
BEGIN:VEVENT
DTSTART;VALUE=DATE:20250207
DTEND;VALUE=DATE:20250208
DTSTAMP:20260420T043306
CREATED:20241104T150538Z
LAST-MODIFIED:20241104T150538Z
UID:72568-1738886400-1738972799@mahamantra.cz
SUMMARY:Šrí Rámánudžáčárja – Odchod
DESCRIPTION:
URL:https://mahamantra.cz/event/sri-ramanudzacarja-odchod-4/
CATEGORIES:Vaišnavský kalendář
END:VEVENT
BEGIN:VEVENT
DTSTART;VALUE=DATE:20250206
DTEND;VALUE=DATE:20250207
DTSTAMP:20260420T043306
CREATED:20241104T150521Z
LAST-MODIFIED:20241104T150521Z
UID:72567-1738800000-1738886399@mahamantra.cz
SUMMARY:Šrí Madhváčárja – Odchod
DESCRIPTION:
URL:https://mahamantra.cz/event/sri-madhvacarja-odchod-5/
CATEGORIES:Vaišnavský kalendář
END:VEVENT
BEGIN:VEVENT
DTSTART;VALUE=DATE:20250204
DTEND;VALUE=DATE:20250205
DTSTAMP:20260420T043306
CREATED:20241104T150506Z
LAST-MODIFIED:20241104T150506Z
UID:72566-1738627200-1738713599@mahamantra.cz
SUMMARY:Šrí Advaita Áčárja – Příchod (půst do oběda)
DESCRIPTION:
URL:https://mahamantra.cz/event/sri-advaita-acarja-prichod-pust-do-obeda-4/
CATEGORIES:Vaišnavský kalendář
END:VEVENT
BEGIN:VEVENT
DTSTART;VALUE=DATE:20250202
DTEND;VALUE=DATE:20250203
DTSTAMP:20260420T043306
CREATED:20241104T150449Z
LAST-MODIFIED:20241104T150449Z
UID:72565-1738454400-1738540799@mahamantra.cz
SUMMARY:Šrímatí Višnuprijá Déví – Příchod\, Šríla Višvanátha Čakravartí Thákura – Odchod\, Šríla Raghunátha Dása Gósvámí – Příchod
DESCRIPTION:
URL:https://mahamantra.cz/event/srimati-visnuprija-devi-prichod-srila-visvanatha-cakravarti-thakura-odchod-srila-raghunatha-dasa-gosvami-prichod-3/
CATEGORIES:Vaišnavský kalendář
END:VEVENT
BEGIN:VEVENT
DTSTART;VALUE=DATE:20250126
DTEND;VALUE=DATE:20250127
DTSTAMP:20260420T043306
CREATED:20241104T150146Z
LAST-MODIFIED:20241104T150146Z
UID:72560-1737849600-1737935999@mahamantra.cz
SUMMARY:Dvádaší\, přerušení: 07:43 - 10:44
DESCRIPTION:
URL:https://mahamantra.cz/event/dvadasi-preruseni-0743-1044/
CATEGORIES:Vaišnavský kalendář
END:VEVENT
BEGIN:VEVENT
DTSTART;VALUE=DATE:20250125
DTEND;VALUE=DATE:20250126
DTSTAMP:20260420T043306
CREATED:20241104T150123Z
LAST-MODIFIED:20241104T150123Z
UID:72559-1737763200-1737849599@mahamantra.cz
SUMMARY:Ékádaší (půst za Šat-tilá Ékádaší)
DESCRIPTION:
URL:https://mahamantra.cz/event/ekadasi-pust-za-sat-tila-ekadasi-4/
CATEGORIES:Vaišnavský kalendář
END:VEVENT
BEGIN:VEVENT
DTSTART;VALUE=DATE:20250120
DTEND;VALUE=DATE:20250121
DTSTAMP:20260420T043306
CREATED:20241104T150053Z
LAST-MODIFIED:20241104T150053Z
UID:72558-1737331200-1737417599@mahamantra.cz
SUMMARY:Šrí Lóčana Dása Thákura – Odchod
DESCRIPTION:
URL:https://mahamantra.cz/event/sri-locana-dasa-thakura-odchod-3/
CATEGORIES:Vaišnavský kalendář
END:VEVENT
BEGIN:VEVENT
DTSTART;VALUE=DATE:20250119
DTEND;VALUE=DATE:20250120
DTSTAMP:20260420T043306
CREATED:20241104T150005Z
LAST-MODIFIED:20241104T150005Z
UID:72557-1737244800-1737331199@mahamantra.cz
SUMMARY:Šrí Džajadéva Gósvámi – Odchod
DESCRIPTION:
URL:https://mahamantra.cz/event/sri-dzajadeva-gosvami-odchod-4/
CATEGORIES:Vaišnavský kalendář
END:VEVENT
END:VCALENDAR