BEGIN:VCALENDAR
VERSION:2.0
PRODID:-//Šrí Šrí Nitái Navadvípačandra mandir - ECPv6.15.20//NONSGML v1.0//EN
CALSCALE:GREGORIAN
METHOD:PUBLISH
X-ORIGINAL-URL:https://mahamantra.cz
X-WR-CALDESC:Akce na Šrí Šrí Nitái Navadvípačandra mandir
REFRESH-INTERVAL;VALUE=DURATION:PT1H
X-Robots-Tag:noindex
X-PUBLISHED-TTL:PT1H
BEGIN:VTIMEZONE
TZID:Europe/Prague
BEGIN:DAYLIGHT
TZOFFSETFROM:+0100
TZOFFSETTO:+0200
TZNAME:CEST
DTSTART:20250330T010000
END:DAYLIGHT
BEGIN:STANDARD
TZOFFSETFROM:+0200
TZOFFSETTO:+0100
TZNAME:CET
DTSTART:20251026T010000
END:STANDARD
BEGIN:DAYLIGHT
TZOFFSETFROM:+0100
TZOFFSETTO:+0200
TZNAME:CEST
DTSTART:20260329T010000
END:DAYLIGHT
BEGIN:STANDARD
TZOFFSETFROM:+0200
TZOFFSETTO:+0100
TZNAME:CET
DTSTART:20261025T010000
END:STANDARD
BEGIN:DAYLIGHT
TZOFFSETFROM:+0100
TZOFFSETTO:+0200
TZNAME:CEST
DTSTART:20270328T010000
END:DAYLIGHT
BEGIN:STANDARD
TZOFFSETFROM:+0200
TZOFFSETTO:+0100
TZNAME:CET
DTSTART:20271031T010000
END:STANDARD
END:VTIMEZONE
BEGIN:VEVENT
DTSTART;VALUE=DATE:20260705
DTEND;VALUE=DATE:20260706
DTSTAMP:20260419T221819
CREATED:20251029T145434Z
LAST-MODIFIED:20251029T145434Z
UID:73399-1783209600-1783295999@mahamantra.cz
SUMMARY:Šrí Vakréšvara Pandita – Příchod
DESCRIPTION:
URL:https://mahamantra.cz/event/sri-vakresvara-pandita-prichod-6/
CATEGORIES:Vaišnavský kalendář
END:VEVENT
BEGIN:VEVENT
DTSTART;VALUE=DATE:20260710
DTEND;VALUE=DATE:20260711
DTSTAMP:20260419T221819
CREATED:20251029T145450Z
LAST-MODIFIED:20251029T145450Z
UID:73400-1783641600-1783727999@mahamantra.cz
SUMMARY:Ékádaší (nevhodné pro půst)
DESCRIPTION:
URL:https://mahamantra.cz/event/ekadasi-nevhodne-pro-pust-16/
CATEGORIES:Vaišnavský kalendář
END:VEVENT
BEGIN:VEVENT
DTSTART;VALUE=DATE:20260710
DTEND;VALUE=DATE:20260711
DTSTAMP:20260419T221819
CREATED:20251029T145502Z
LAST-MODIFIED:20251029T145502Z
UID:73401-1783641600-1783727999@mahamantra.cz
SUMMARY:Šrí Šrívása Pandita – Odchod
DESCRIPTION:
URL:https://mahamantra.cz/event/sri-srivasa-pandita-odchod-6/
CATEGORIES:Vaišnavský kalendář
END:VEVENT
BEGIN:VEVENT
DTSTART;VALUE=DATE:20260711
DTEND;VALUE=DATE:20260712
DTSTAMP:20260419T221819
CREATED:20251029T145517Z
LAST-MODIFIED:20251029T145517Z
UID:73402-1783728000-1783814399@mahamantra.cz
SUMMARY:Dvádaší (půst za Joginí Ékádaší)
DESCRIPTION:
URL:https://mahamantra.cz/event/dvadasi-pust-za-jogini-ekadasi-3/
CATEGORIES:Vaišnavský kalendář
END:VEVENT
BEGIN:VEVENT
DTSTART;VALUE=DATE:20260714
DTEND;VALUE=DATE:20260715
DTSTAMP:20260419T221819
CREATED:20251029T145820Z
LAST-MODIFIED:20251029T145820Z
UID:73418-1783987200-1784073599@mahamantra.cz
SUMMARY:Šríla Bhaktivinóda Thákura – Odchod (půst do oběda)\, Šrí Gadádhara Pandita – Odchod
DESCRIPTION:
URL:https://mahamantra.cz/event/srila-bhaktivinoda-thakura-odchod-pust-do-obeda-sri-gadadhara-pandita-odchod-4/
CATEGORIES:Vaišnavský kalendář
END:VEVENT
BEGIN:VEVENT
DTSTART;VALUE=DATE:20260716
DTEND;VALUE=DATE:20260717
DTSTAMP:20260419T221819
CREATED:20251029T145835Z
LAST-MODIFIED:20251029T145835Z
UID:73419-1784160000-1784246399@mahamantra.cz
SUMMARY:Rathajátrá v Džagannáth Purí\, Šrí Svarúpa Dámódara Gósvámí – Odchod\, Šrí Šivánanda Séna – Odchod
DESCRIPTION:
URL:https://mahamantra.cz/event/rathajatra-v-dzagannath-puri-sri-svarupa-damodara-gosvami-odchod-sri-sivananda-sena-odchod-4/
CATEGORIES:Vaišnavský kalendář
END:VEVENT
BEGIN:VEVENT
DTSTART;VALUE=DATE:20260719
DTEND;VALUE=DATE:20260720
DTSTAMP:20260419T221819
CREATED:20251029T145850Z
LAST-MODIFIED:20251029T145850Z
UID:73420-1784419200-1784505599@mahamantra.cz
SUMMARY:Šrí Vakréšvara Pandita – Odchod
DESCRIPTION:
URL:https://mahamantra.cz/event/sri-vakresvara-pandita-odchod-6/
CATEGORIES:Vaišnavský kalendář
END:VEVENT
BEGIN:VEVENT
DTSTART;VALUE=DATE:20260725
DTEND;VALUE=DATE:20260726
DTSTAMP:20260419T221819
CREATED:20251029T145904Z
LAST-MODIFIED:20251029T145904Z
UID:73421-1784937600-1785023999@mahamantra.cz
SUMMARY:Ékádaší (půst za Šajana Ékádaší)
DESCRIPTION:
URL:https://mahamantra.cz/event/ekadasi-pust-za-sajana-ekadasi-8/
CATEGORIES:Vaišnavský kalendář
END:VEVENT
BEGIN:VEVENT
DTSTART;VALUE=DATE:20260726
DTEND;VALUE=DATE:20260727
DTSTAMP:20260419T221819
CREATED:20251029T145915Z
LAST-MODIFIED:20251029T145915Z
UID:73422-1785024000-1785110399@mahamantra.cz
SUMMARY:Dvádaší\, přerušení: 05:22 - 10:29
DESCRIPTION:
URL:https://mahamantra.cz/event/dvadasi-preruseni-0522-1029/
CATEGORIES:Vaišnavský kalendář
END:VEVENT
BEGIN:VEVENT
DTSTART;VALUE=DATE:20260729
DTEND;VALUE=DATE:20260730
DTSTAMP:20260419T221819
CREATED:20251029T145932Z
LAST-MODIFIED:20251029T145932Z
UID:73423-1785283200-1785369599@mahamantra.cz
SUMMARY:Začíná 1. měsíc Čáturmásji (půst od šáku)
DESCRIPTION:
URL:https://mahamantra.cz/event/zacina-1-mesic-caturmasji-pust-od-saku-5/
CATEGORIES:Vaišnavský kalendář
END:VEVENT
BEGIN:VEVENT
DTSTART;VALUE=DATE:20260729
DTEND;VALUE=DATE:20260730
DTSTAMP:20260419T221819
CREATED:20251029T145946Z
LAST-MODIFIED:20251029T145946Z
UID:73424-1785283200-1785369599@mahamantra.cz
SUMMARY:Šríla Sanátana Gósvámí – Odchod
DESCRIPTION:
URL:https://mahamantra.cz/event/srila-sanatana-gosvami-odchod-6/
CATEGORIES:Vaišnavský kalendář
END:VEVENT
BEGIN:VEVENT
DTSTART;VALUE=DATE:20260803
DTEND;VALUE=DATE:20260804
DTSTAMP:20260419T221819
CREATED:20251029T150011Z
LAST-MODIFIED:20251029T150011Z
UID:73425-1785715200-1785801599@mahamantra.cz
SUMMARY:Šríla Gópála Bhatta Gósvámí – Odchod
DESCRIPTION:
URL:https://mahamantra.cz/event/srila-gopala-bhatta-gosvami-odchod-6/
CATEGORIES:Vaišnavský kalendář
END:VEVENT
BEGIN:VEVENT
DTSTART;VALUE=DATE:20260806
DTEND;VALUE=DATE:20260807
DTSTAMP:20260419T221819
CREATED:20251029T150024Z
LAST-MODIFIED:20251029T150024Z
UID:73426-1785974400-1786060799@mahamantra.cz
SUMMARY:Šríla Lókanátha Gósvámí – Odchod
DESCRIPTION:
URL:https://mahamantra.cz/event/srila-lokanatha-gosvami-odchod-6/
CATEGORIES:Vaišnavský kalendář
END:VEVENT
BEGIN:VEVENT
DTSTART;VALUE=DATE:20260807
DTEND;VALUE=DATE:20260808
DTSTAMP:20260419T221819
CREATED:20251029T150037Z
LAST-MODIFIED:20251029T150037Z
UID:73427-1786060800-1786147199@mahamantra.cz
SUMMARY:Založení ISKCONu v New Yorku v roce 1966
DESCRIPTION:
URL:https://mahamantra.cz/event/zalozeni-iskconu-v-new-yorku-v-roce-1966-6/
CATEGORIES:Vaišnavský kalendář
END:VEVENT
BEGIN:VEVENT
DTSTART;VALUE=DATE:20260809
DTEND;VALUE=DATE:20260810
DTSTAMP:20260419T221819
CREATED:20251029T150429Z
LAST-MODIFIED:20251029T150429Z
UID:73438-1786233600-1786319999@mahamantra.cz
SUMMARY:Ékádaší (půst za Kamika Ékádaší)
DESCRIPTION:
URL:https://mahamantra.cz/event/ekadasi-pust-za-kamika-ekadasi-7/
CATEGORIES:Vaišnavský kalendář
END:VEVENT
BEGIN:VEVENT
DTSTART;VALUE=DATE:20260810
DTEND;VALUE=DATE:20260811
DTSTAMP:20260419T221819
CREATED:20251029T150440Z
LAST-MODIFIED:20251029T150440Z
UID:73439-1786320000-1786406399@mahamantra.cz
SUMMARY:Trajódaší\, přerušení: 05:44 - 10:39
DESCRIPTION:
URL:https://mahamantra.cz/event/trajodasi-preruseni-0544-1039/
CATEGORIES:Vaišnavský kalendář
END:VEVENT
BEGIN:VEVENT
DTSTART;VALUE=DATE:20260819
DTEND;VALUE=DATE:20260820
DTSTAMP:20260419T221819
CREATED:20251029T150759Z
LAST-MODIFIED:20251029T150759Z
UID:73452-1787097600-1787183999@mahamantra.cz
SUMMARY:Rádháštamí – Příchod Šrímatí Rádhárání (půst do oběda)
DESCRIPTION:
URL:https://mahamantra.cz/event/radhastami-prichod-srimati-radharani-pust-do-obeda-6/
CATEGORIES:Vaišnavský kalendář
END:VEVENT
BEGIN:VEVENT
DTSTART;VALUE=DATE:20260823
DTEND;VALUE=DATE:20260824
DTSTAMP:20260419T221819
CREATED:20251029T150458Z
LAST-MODIFIED:20251029T150458Z
UID:73440-1787443200-1787529599@mahamantra.cz
SUMMARY:Ékádaší (nevhodné pro půst)
DESCRIPTION:
URL:https://mahamantra.cz/event/ekadasi-nevhodne-pro-pust-17/
CATEGORIES:Vaišnavský kalendář
END:VEVENT
BEGIN:VEVENT
DTSTART;VALUE=DATE:20260824
DTEND;VALUE=DATE:20260825
DTSTAMP:20260419T221819
CREATED:20251029T150510Z
LAST-MODIFIED:20251029T150510Z
UID:73441-1787529600-1787615999@mahamantra.cz
SUMMARY:Dvádaší (půst za Pavitrópana Ékádaší)
DESCRIPTION:
URL:https://mahamantra.cz/event/dvadasi-pust-za-pavitropana-ekadasi/
CATEGORIES:Vaišnavský kalendář
END:VEVENT
BEGIN:VEVENT
DTSTART;VALUE=DATE:20260824
DTEND;VALUE=DATE:20260825
DTSTAMP:20260419T221819
CREATED:20251029T150521Z
LAST-MODIFIED:20251029T150521Z
UID:73442-1787529600-1787615999@mahamantra.cz
SUMMARY:Šríla Rúpa Gósvámí – Odchod
DESCRIPTION:
URL:https://mahamantra.cz/event/srila-rupa-gosvami-odchod-6/
CATEGORIES:Vaišnavský kalendář
END:VEVENT
BEGIN:VEVENT
DTSTART;VALUE=DATE:20260825
DTEND;VALUE=DATE:20260826
DTSTAMP:20260419T221819
CREATED:20251029T150537Z
LAST-MODIFIED:20251029T150537Z
UID:73443-1787616000-1787702399@mahamantra.cz
SUMMARY:Trajódaší\, přerušení: 06:06 - 10:44
DESCRIPTION:
URL:https://mahamantra.cz/event/trajodasi-preruseni-0606-1044/
CATEGORIES:Vaišnavský kalendář
END:VEVENT
BEGIN:VEVENT
DTSTART;VALUE=DATE:20260827
DTEND;VALUE=DATE:20260828
DTSTAMP:20260419T221819
CREATED:20251029T150551Z
LAST-MODIFIED:20251029T150551Z
UID:73444-1787788800-1787875199@mahamantra.cz
SUMMARY:Začíná 2. měsíc Čáturmásji (půst od jogurtu)
DESCRIPTION:
URL:https://mahamantra.cz/event/zacina-2-mesic-caturmasji-pust-od-jogurtu-6/
CATEGORIES:Vaišnavský kalendář
END:VEVENT
BEGIN:VEVENT
DTSTART;VALUE=DATE:20260827
DTEND;VALUE=DATE:20260828
DTSTAMP:20260419T221819
CREATED:20251029T150608Z
LAST-MODIFIED:20251029T150608Z
UID:73445-1787788800-1787875199@mahamantra.cz
SUMMARY:Příchod Pána Balaráma (půst do oběda)
DESCRIPTION:
URL:https://mahamantra.cz/event/prichod-pana-balarama-pust-do-obeda-5/
CATEGORIES:Vaišnavský kalendář
END:VEVENT
BEGIN:VEVENT
DTSTART;VALUE=DATE:20260829
DTEND;VALUE=DATE:20260830
DTSTAMP:20260419T221819
CREATED:20251029T150621Z
LAST-MODIFIED:20251029T150621Z
UID:73446-1787961600-1788047999@mahamantra.cz
SUMMARY:Odjezd Šríly Prabhupády do USA
DESCRIPTION:
URL:https://mahamantra.cz/event/odjezd-srily-prabhupady-do-usa-5/
CATEGORIES:Vaišnavský kalendář
END:VEVENT
BEGIN:VEVENT
DTSTART;VALUE=DATE:20260904
DTEND;VALUE=DATE:20260905
DTSTAMP:20260419T221819
CREATED:20251029T150640Z
LAST-MODIFIED:20251029T150640Z
UID:73447-1788480000-1788566399@mahamantra.cz
SUMMARY:Šrí Krišna Džanmáštamí – Příchod Pána Šrí Krišny (půst do půlnoci)
DESCRIPTION:
URL:https://mahamantra.cz/event/sri-krisna-dzanmastami-prichod-pana-sri-krisny-pust-do-pulnoci-6/
CATEGORIES:Vaišnavský kalendář
END:VEVENT
BEGIN:VEVENT
DTSTART;VALUE=DATE:20260905
DTEND;VALUE=DATE:20260906
DTSTAMP:20260419T221819
CREATED:20251029T150655Z
LAST-MODIFIED:20251029T150655Z
UID:73448-1788566400-1788652799@mahamantra.cz
SUMMARY:Nandótsava – Příchod Šríly Prabhupády (půst do oběda)
DESCRIPTION:
URL:https://mahamantra.cz/event/nandotsava-prichod-srily-prabhupady-pust-do-obeda-6/
CATEGORIES:Vaišnavský kalendář
END:VEVENT
BEGIN:VEVENT
DTSTART;VALUE=DATE:20260907
DTEND;VALUE=DATE:20260908
DTSTAMP:20260419T221819
CREATED:20251029T150710Z
LAST-MODIFIED:20251029T150710Z
UID:73449-1788739200-1788825599@mahamantra.cz
SUMMARY:Ékádaší (půst za Annadá Ékádaší)
DESCRIPTION:
URL:https://mahamantra.cz/event/ekadasi-pust-za-annada-ekadasi-6/
CATEGORIES:Vaišnavský kalendář
END:VEVENT
BEGIN:VEVENT
DTSTART;VALUE=DATE:20260908
DTEND;VALUE=DATE:20260909
DTSTAMP:20260419T221819
CREATED:20251029T150729Z
LAST-MODIFIED:20251029T150729Z
UID:73450-1788825600-1788911999@mahamantra.cz
SUMMARY:Dvádaší\, přerušení: 06:27 - 10:48
DESCRIPTION:
URL:https://mahamantra.cz/event/dvadasi-preruseni-0627-1048/
CATEGORIES:Vaišnavský kalendář
END:VEVENT
BEGIN:VEVENT
DTSTART;VALUE=DATE:20260915
DTEND;VALUE=DATE:20260916
DTSTAMP:20260419T221819
CREATED:20251029T150743Z
LAST-MODIFIED:20251029T150743Z
UID:73451-1789430400-1789516799@mahamantra.cz
SUMMARY:Šrímatí Sítá Thákurání (manželka Šrí Advaity) – Příchod
DESCRIPTION:
URL:https://mahamantra.cz/event/srimati-sita-thakurani-manzelka-sri-advaity-prichod-6/
CATEGORIES:Vaišnavský kalendář
END:VEVENT
BEGIN:VEVENT
DTSTART;VALUE=DATE:20260922
DTEND;VALUE=DATE:20260923
DTSTAMP:20260419T221819
CREATED:20251029T151028Z
LAST-MODIFIED:20251029T151028Z
UID:73468-1790035200-1790121599@mahamantra.cz
SUMMARY:Ékádaší (půst za Páršva Ékádaší a Pána Vámanadéva)
DESCRIPTION:
URL:https://mahamantra.cz/event/ekadasi-pust-za-parsva-ekadasi-a-pana-vamanadeva/
CATEGORIES:Vaišnavský kalendář
END:VEVENT
END:VCALENDAR