BEGIN:VCALENDAR
VERSION:2.0
PRODID:-//Šrí Šrí Nitái Navadvípačandra mandir - ECPv6.15.20//NONSGML v1.0//EN
CALSCALE:GREGORIAN
METHOD:PUBLISH
X-WR-CALNAME:Šrí Šrí Nitái Navadvípačandra mandir
X-ORIGINAL-URL:https://mahamantra.cz
X-WR-CALDESC:Akce na Šrí Šrí Nitái Navadvípačandra mandir
REFRESH-INTERVAL;VALUE=DURATION:PT1H
X-Robots-Tag:noindex
X-PUBLISHED-TTL:PT1H
BEGIN:VTIMEZONE
TZID:Europe/Prague
BEGIN:DAYLIGHT
TZOFFSETFROM:+0100
TZOFFSETTO:+0200
TZNAME:CEST
DTSTART:20240331T010000
END:DAYLIGHT
BEGIN:STANDARD
TZOFFSETFROM:+0200
TZOFFSETTO:+0100
TZNAME:CET
DTSTART:20241027T010000
END:STANDARD
BEGIN:DAYLIGHT
TZOFFSETFROM:+0100
TZOFFSETTO:+0200
TZNAME:CEST
DTSTART:20250330T010000
END:DAYLIGHT
BEGIN:STANDARD
TZOFFSETFROM:+0200
TZOFFSETTO:+0100
TZNAME:CET
DTSTART:20251026T010000
END:STANDARD
BEGIN:DAYLIGHT
TZOFFSETFROM:+0100
TZOFFSETTO:+0200
TZNAME:CEST
DTSTART:20260329T010000
END:DAYLIGHT
BEGIN:STANDARD
TZOFFSETFROM:+0200
TZOFFSETTO:+0100
TZNAME:CET
DTSTART:20261025T010000
END:STANDARD
BEGIN:DAYLIGHT
TZOFFSETFROM:+0100
TZOFFSETTO:+0200
TZNAME:CEST
DTSTART:20270328T010000
END:DAYLIGHT
BEGIN:STANDARD
TZOFFSETFROM:+0200
TZOFFSETTO:+0100
TZNAME:CET
DTSTART:20271031T010000
END:STANDARD
END:VTIMEZONE
BEGIN:VEVENT
DTSTART;VALUE=DATE:20260128
DTEND;VALUE=DATE:20260129
DTSTAMP:20260420T015746
CREATED:20251029T142051Z
LAST-MODIFIED:20251029T142051Z
UID:73305-1769558400-1769644799@mahamantra.cz
SUMMARY:Šrí Rámánudžáčárja – Odchod
DESCRIPTION:
URL:https://mahamantra.cz/event/sri-ramanudzacarja-odchod-5/
CATEGORIES:Vaišnavský kalendář
END:VEVENT
BEGIN:VEVENT
DTSTART;VALUE=DATE:20260127
DTEND;VALUE=DATE:20260128
DTSTAMP:20260420T015746
CREATED:20251029T142036Z
LAST-MODIFIED:20251029T142036Z
UID:73304-1769472000-1769558399@mahamantra.cz
SUMMARY:Šrí Madhváčárja – Odchod
DESCRIPTION:
URL:https://mahamantra.cz/event/sri-madhvacarja-odchod-6/
CATEGORIES:Vaišnavský kalendář
END:VEVENT
BEGIN:VEVENT
DTSTART;VALUE=DATE:20260125
DTEND;VALUE=DATE:20260126
DTSTAMP:20260420T015746
CREATED:20251029T142014Z
LAST-MODIFIED:20251029T142014Z
UID:73303-1769299200-1769385599@mahamantra.cz
SUMMARY:Šrí Advaita Áčárja – Příchod (půst do oběda)
DESCRIPTION:
URL:https://mahamantra.cz/event/sri-advaita-acarja-prichod-pust-do-obeda-5/
CATEGORIES:Vaišnavský kalendář
END:VEVENT
BEGIN:VEVENT
DTSTART;VALUE=DATE:20260123
DTEND;VALUE=DATE:20260124
DTSTAMP:20260420T015746
CREATED:20251029T141944Z
LAST-MODIFIED:20251029T141944Z
UID:73302-1769126400-1769212799@mahamantra.cz
SUMMARY:Šrímatí Višnuprijá Déví – Příchod\, Šríla Višvanátha Čakravartí Thákura – Odchod\, Šríla Raghunátha Dása Gósvámí – Příchod
DESCRIPTION:
URL:https://mahamantra.cz/event/srimati-visnuprija-devi-prichod-srila-visvanatha-cakravarti-thakura-odchod-srila-raghunatha-dasa-gosvami-prichod-4/
CATEGORIES:Vaišnavský kalendář
END:VEVENT
BEGIN:VEVENT
DTSTART;VALUE=DATE:20260115
DTEND;VALUE=DATE:20260116
DTSTAMP:20260420T015746
CREATED:20251029T141917Z
LAST-MODIFIED:20251029T141917Z
UID:73301-1768435200-1768521599@mahamantra.cz
SUMMARY:Dvádaší\, přerušení: 07:55 - 10:46
DESCRIPTION:
URL:https://mahamantra.cz/event/dvadasi-preruseni-0755-1046/
CATEGORIES:Vaišnavský kalendář
END:VEVENT
BEGIN:VEVENT
DTSTART;VALUE=DATE:20260114
DTEND;VALUE=DATE:20260115
DTSTAMP:20260420T015746
CREATED:20251029T141859Z
LAST-MODIFIED:20251029T141859Z
UID:73300-1768348800-1768435199@mahamantra.cz
SUMMARY:Ékádaší (půst za Šat-tilá Ékádaší)
DESCRIPTION:
URL:https://mahamantra.cz/event/ekadasi-pust-za-sat-tila-ekadasi-5/
CATEGORIES:Vaišnavský kalendář
END:VEVENT
BEGIN:VEVENT
DTSTART;VALUE=DATE:20260109
DTEND;VALUE=DATE:20260110
DTSTAMP:20260420T015746
CREATED:20251029T141843Z
LAST-MODIFIED:20251029T141843Z
UID:73299-1767916800-1768003199@mahamantra.cz
SUMMARY:Šrí Lóčana Dása Thákura – Odchod.
DESCRIPTION:
URL:https://mahamantra.cz/event/sri-locana-dasa-thakura-odchod-4/
CATEGORIES:Vaišnavský kalendář
END:VEVENT
BEGIN:VEVENT
DTSTART;VALUE=DATE:20260108
DTEND;VALUE=DATE:20260109
DTSTAMP:20260420T015746
CREATED:20251029T141817Z
LAST-MODIFIED:20251029T141824Z
UID:73298-1767830400-1767916799@mahamantra.cz
SUMMARY:Šrí Džajadéva Gósvámí – Odchod
DESCRIPTION:
URL:https://mahamantra.cz/event/sri-dzajadeva-gosvami-odchod-5/
CATEGORIES:Vaišnavský kalendář
END:VEVENT
BEGIN:VEVENT
DTSTART;VALUE=DATE:20260107
DTEND;VALUE=DATE:20260108
DTSTAMP:20260420T015746
CREATED:20251029T141507Z
LAST-MODIFIED:20251029T141507Z
UID:73297-1767744000-1767830399@mahamantra.cz
SUMMARY:Šrí Rámačandra Kavirádža – Odchod\, Šríla Gópála Bhatta Gósvámí – Příchod
DESCRIPTION:
URL:https://mahamantra.cz/event/sri-ramacandra-kaviradza-odchod-srila-gopala-bhatta-gosvami-prichod-3/
CATEGORIES:Vaišnavský kalendář
END:VEVENT
BEGIN:VEVENT
DTSTART;VALUE=DATE:20251231
DTEND;VALUE=DATE:20260101
DTSTAMP:20260420T015746
CREATED:20241104T160533Z
LAST-MODIFIED:20241104T160533Z
UID:72790-1767139200-1767225599@mahamantra.cz
SUMMARY:Šrí Džagadíša Pandita - Příchod
DESCRIPTION:
URL:https://mahamantra.cz/event/sri-dzagadisa-pandita-prichod-6/
CATEGORIES:Vaišnavský kalendář
END:VEVENT
BEGIN:VEVENT
DTSTART;VALUE=DATE:20251231
DTEND;VALUE=DATE:20260101
DTSTAMP:20260420T015746
CREATED:20241104T160521Z
LAST-MODIFIED:20241104T160521Z
UID:72789-1767139200-1767225599@mahamantra.cz
SUMMARY:Dvádaší\, přerušení: 08:01 - 10:44
DESCRIPTION:
URL:https://mahamantra.cz/event/dvadasi-preruseni-0801-1044-3/
CATEGORIES:Vaišnavský kalendář
END:VEVENT
BEGIN:VEVENT
DTSTART;VALUE=DATE:20251230
DTEND;VALUE=DATE:20251231
DTSTAMP:20260420T015746
CREATED:20241104T160451Z
LAST-MODIFIED:20241104T160451Z
UID:72788-1767052800-1767139199@mahamantra.cz
SUMMARY:Ékádaší (půst za Putradá Ékádaší)
DESCRIPTION:
URL:https://mahamantra.cz/event/ekadasi-pust-za-putrada-ekadasi-5/
CATEGORIES:Vaišnavský kalendář
END:VEVENT
BEGIN:VEVENT
DTSTART;VALUE=DATE:20251222
DTEND;VALUE=DATE:20251223
DTSTAMP:20260420T015746
CREATED:20241104T160433Z
LAST-MODIFIED:20241104T160433Z
UID:72787-1766361600-1766447999@mahamantra.cz
SUMMARY:Šríla Džíva Gósvámi - Odchod\, Šrí Džagadíša Pandita - Příchod
DESCRIPTION:
URL:https://mahamantra.cz/event/srila-dziva-gosvami-odchod-sri-dzagadisa-pandita-prichod-2/
CATEGORIES:Vaišnavský kalendář
END:VEVENT
BEGIN:VEVENT
DTSTART;VALUE=DATE:20251220
DTEND;VALUE=DATE:20251221
DTSTAMP:20260420T015746
CREATED:20241104T160418Z
LAST-MODIFIED:20241104T160418Z
UID:72786-1766188800-1766275199@mahamantra.cz
SUMMARY:Šrí Ločana Dása Thaákura - Příchod
DESCRIPTION:
URL:https://mahamantra.cz/event/sri-locana-dasa-thaakura-prichod-3/
CATEGORIES:Vaišnavský kalendář
END:VEVENT
BEGIN:VEVENT
DTSTART;VALUE=DATE:20251216
DTEND;VALUE=DATE:20251217
DTSTAMP:20260420T015746
CREATED:20241104T160400Z
LAST-MODIFIED:20241104T160400Z
UID:72785-1765843200-1765929599@mahamantra.cz
SUMMARY:Dvádaší\, přerušení: 07:55 - 10:37
DESCRIPTION:
URL:https://mahamantra.cz/event/dvadasi-preruseni-0755-1037/
CATEGORIES:Vaišnavský kalendář
END:VEVENT
BEGIN:VEVENT
DTSTART;VALUE=DATE:20251215
DTEND;VALUE=DATE:20251216
DTSTAMP:20260420T015746
CREATED:20241104T160345Z
LAST-MODIFIED:20241104T160345Z
UID:72784-1765756800-1765843199@mahamantra.cz
SUMMARY:Ékádaší (půst za Saphala Ékádaší)
DESCRIPTION:
URL:https://mahamantra.cz/event/ekadasi-pust-za-saphala-ekadasi-6/
CATEGORIES:Vaišnavský kalendář
END:VEVENT
BEGIN:VEVENT
DTSTART;VALUE=DATE:20251208
DTEND;VALUE=DATE:20251209
DTSTAMP:20260420T015746
CREATED:20241104T160327Z
LAST-MODIFIED:20241104T160327Z
UID:72783-1765152000-1765238399@mahamantra.cz
SUMMARY:Šríla Bhaktisiddhánta Sarasvatí Thákura - Odchod (půst do oběda)
DESCRIPTION:
URL:https://mahamantra.cz/event/srila-bhaktisiddhanta-sarasvati-thakura-odchod-pust-do-obeda-6/
CATEGORIES:Vaišnavský kalendář
END:VEVENT
BEGIN:VEVENT
DTSTART;VALUE=DATE:20251202
DTEND;VALUE=DATE:20251203
DTSTAMP:20260420T015746
CREATED:20241104T160240Z
LAST-MODIFIED:20241104T160240Z
UID:72782-1764633600-1764719999@mahamantra.cz
SUMMARY:Dvádaší\, přerušení: 07:40 - 10:28
DESCRIPTION:
URL:https://mahamantra.cz/event/dvadasi-preruseni-0740-1028/
CATEGORIES:Vaišnavský kalendář
END:VEVENT
BEGIN:VEVENT
DTSTART;VALUE=DATE:20251201
DTEND;VALUE=DATE:20251202
DTSTAMP:20260420T015746
CREATED:20241104T160117Z
LAST-MODIFIED:20241104T160232Z
UID:72781-1764547200-1764633599@mahamantra.cz
SUMMARY:Vyslovení Šrímad Bhagavad Gíty
DESCRIPTION:
URL:https://mahamantra.cz/event/vysloveni-srimad-bhagavad-gity-4/
CATEGORIES:Vaišnavský kalendář
END:VEVENT
BEGIN:VEVENT
DTSTART;VALUE=DATE:20251201
DTEND;VALUE=DATE:20251202
DTSTAMP:20260420T015746
CREATED:20241104T160110Z
LAST-MODIFIED:20241104T160202Z
UID:72780-1764547200-1764633599@mahamantra.cz
SUMMARY:Ékádaší (půst za Mókšada Ékádaší)
DESCRIPTION:
URL:https://mahamantra.cz/event/ekadasi-pust-za-moksada-ekadasi-5/
CATEGORIES:Vaišnavský kalendář
END:VEVENT
BEGIN:VEVENT
DTSTART;VALUE=DATE:20251117
DTEND;VALUE=DATE:20251118
DTSTAMP:20260420T015746
CREATED:20241104T155900Z
LAST-MODIFIED:20241104T155900Z
UID:72771-1763337600-1763423999@mahamantra.cz
SUMMARY:Trajódaší\, přerušení: 07:18 - 10:17
DESCRIPTION:
URL:https://mahamantra.cz/event/trajodasi-preruseni-0718-1017/
CATEGORIES:Vaišnavský kalendář
END:VEVENT
BEGIN:VEVENT
DTSTART;VALUE=DATE:20251116
DTEND;VALUE=DATE:20251117
DTSTAMP:20260420T015746
CREATED:20241104T155847Z
LAST-MODIFIED:20241104T155847Z
UID:72770-1763251200-1763337599@mahamantra.cz
SUMMARY:Dvádaší (půst za Utpanna Ékádaší)
DESCRIPTION:
URL:https://mahamantra.cz/event/dvadasi-pust-za-utpanna-ekadasi-2/
CATEGORIES:Vaišnavský kalendář
END:VEVENT
BEGIN:VEVENT
DTSTART;VALUE=DATE:20251115
DTEND;VALUE=DATE:20251116
DTSTAMP:20260420T015746
CREATED:20241104T155833Z
LAST-MODIFIED:20241104T155833Z
UID:72769-1763164800-1763251199@mahamantra.cz
SUMMARY:Ékádaší (nevhodné pro půst)
DESCRIPTION:
URL:https://mahamantra.cz/event/ekadasi-nevhodne-pro-pust-14/
CATEGORIES:Vaišnavský kalendář
END:VEVENT
BEGIN:VEVENT
DTSTART;VALUE=DATE:20251105
DTEND;VALUE=DATE:20251106
DTSTAMP:20260420T015746
CREATED:20241104T155819Z
LAST-MODIFIED:20241104T155819Z
UID:72768-1762300800-1762387199@mahamantra.cz
SUMMARY:Tulasí-Šalagráma Viváha (svatba)\, Konec Kártiku
DESCRIPTION:
URL:https://mahamantra.cz/event/tulasi-salagrama-vivaha-svatba-konec-kartiku-3/
CATEGORIES:Vaišnavský kalendář
END:VEVENT
BEGIN:VEVENT
DTSTART;VALUE=DATE:20251105
DTEND;VALUE=DATE:20251106
DTSTAMP:20260420T015746
CREATED:20241104T155807Z
LAST-MODIFIED:20241104T155807Z
UID:72767-1762300800-1762387199@mahamantra.cz
SUMMARY:Konec Čaturmásji
DESCRIPTION:
URL:https://mahamantra.cz/event/konec-caturmasji-6/
CATEGORIES:Vaišnavský kalendář
END:VEVENT
BEGIN:VEVENT
DTSTART;VALUE=DATE:20251102
DTEND;VALUE=DATE:20251103
DTSTAMP:20260420T015746
CREATED:20241104T155752Z
LAST-MODIFIED:20241104T155752Z
UID:72766-1762041600-1762127999@mahamantra.cz
SUMMARY:Dvádaší\, přerušení: 08:26 - 10:08
DESCRIPTION:
URL:https://mahamantra.cz/event/dvadasi-preruseni-0826-1008/
CATEGORIES:Vaišnavský kalendář
END:VEVENT
BEGIN:VEVENT
DTSTART;VALUE=DATE:20251101
DTEND;VALUE=DATE:20251102
DTSTAMP:20260420T015746
CREATED:20241104T155725Z
LAST-MODIFIED:20241104T155725Z
UID:72764-1761955200-1762041599@mahamantra.cz
SUMMARY:Ékádaší (půst za Utthana Ékádaší)
DESCRIPTION:
URL:https://mahamantra.cz/event/ekadasi-pust-za-utthana-ekadasi-5/
CATEGORIES:Vaišnavský kalendář
END:VEVENT
BEGIN:VEVENT
DTSTART;VALUE=DATE:20251029
DTEND;VALUE=DATE:20251030
DTSTAMP:20260420T015746
CREATED:20241104T155533Z
LAST-MODIFIED:20241104T155533Z
UID:72749-1761696000-1761782399@mahamantra.cz
SUMMARY:Gópáštamí\, Góštháštamí\, Šrí Gadádhara Dása Gósvámí – Odchod\, Šrí Šrinivása Áčárja – Odchod
DESCRIPTION:
URL:https://mahamantra.cz/event/gopastami-gosthastami-sri-gadadhara-dasa-gosvami-odchod-sri-srinivasa-acarja-odchod-3/
CATEGORIES:Vaišnavský kalendář
END:VEVENT
BEGIN:VEVENT
DTSTART;VALUE=DATE:20251025
DTEND;VALUE=DATE:20251026
DTSTAMP:20260420T015746
CREATED:20241104T155516Z
LAST-MODIFIED:20241104T155516Z
UID:72748-1761350400-1761436799@mahamantra.cz
SUMMARY:Šríla Prabhupáda – Odchod (půst do oběda)
DESCRIPTION:
URL:https://mahamantra.cz/event/srila-prabhupada-odchod-pust-do-obeda-5/
CATEGORIES:Vaišnavský kalendář
END:VEVENT
BEGIN:VEVENT
DTSTART;VALUE=DATE:20251022
DTEND;VALUE=DATE:20251023
DTSTAMP:20260420T015746
CREATED:20241104T155459Z
LAST-MODIFIED:20241104T155459Z
UID:72747-1761091200-1761177599@mahamantra.cz
SUMMARY:Góvardhana púdža\, Gó púdža\, Gó Krida\, Dípávalí
DESCRIPTION:
URL:https://mahamantra.cz/event/govardhana-pudza-go-pudza-go-krida-dipavali-6/
CATEGORIES:Vaišnavský kalendář
END:VEVENT
END:VCALENDAR