BEGIN:VCALENDAR
VERSION:2.0
PRODID:-//Šrí Šrí Nitái Navadvípačandra mandir - ECPv6.15.20//NONSGML v1.0//EN
CALSCALE:GREGORIAN
METHOD:PUBLISH
X-WR-CALNAME:Šrí Šrí Nitái Navadvípačandra mandir
X-ORIGINAL-URL:https://mahamantra.cz
X-WR-CALDESC:Akce na Šrí Šrí Nitái Navadvípačandra mandir
REFRESH-INTERVAL;VALUE=DURATION:PT1H
X-Robots-Tag:noindex
X-PUBLISHED-TTL:PT1H
BEGIN:VTIMEZONE
TZID:Europe/Prague
BEGIN:DAYLIGHT
TZOFFSETFROM:+0100
TZOFFSETTO:+0200
TZNAME:CEST
DTSTART:20230326T010000
END:DAYLIGHT
BEGIN:STANDARD
TZOFFSETFROM:+0200
TZOFFSETTO:+0100
TZNAME:CET
DTSTART:20231029T010000
END:STANDARD
BEGIN:DAYLIGHT
TZOFFSETFROM:+0100
TZOFFSETTO:+0200
TZNAME:CEST
DTSTART:20240331T010000
END:DAYLIGHT
BEGIN:STANDARD
TZOFFSETFROM:+0200
TZOFFSETTO:+0100
TZNAME:CET
DTSTART:20241027T010000
END:STANDARD
BEGIN:DAYLIGHT
TZOFFSETFROM:+0100
TZOFFSETTO:+0200
TZNAME:CEST
DTSTART:20250330T010000
END:DAYLIGHT
BEGIN:STANDARD
TZOFFSETFROM:+0200
TZOFFSETTO:+0100
TZNAME:CET
DTSTART:20251026T010000
END:STANDARD
BEGIN:DAYLIGHT
TZOFFSETFROM:+0100
TZOFFSETTO:+0200
TZNAME:CEST
DTSTART:20260329T010000
END:DAYLIGHT
BEGIN:STANDARD
TZOFFSETFROM:+0200
TZOFFSETTO:+0100
TZNAME:CET
DTSTART:20261025T010000
END:STANDARD
END:VTIMEZONE
BEGIN:VEVENT
DTSTART;VALUE=DATE:20250110
DTEND;VALUE=DATE:20250111
DTSTAMP:20260420T060027
CREATED:20241104T145522Z
LAST-MODIFIED:20241104T145522Z
UID:72549-1736467200-1736553599@mahamantra.cz
SUMMARY:Dvádaší (půst za Putradá Ékádaší)
DESCRIPTION:
URL:https://mahamantra.cz/event/dvadasi-pust-za-putrada-ekadasi/
CATEGORIES:Vaišnavský kalendář
END:VEVENT
BEGIN:VEVENT
DTSTART;VALUE=DATE:20250109
DTEND;VALUE=DATE:20250110
DTSTAMP:20260420T060027
CREATED:20241104T145446Z
LAST-MODIFIED:20241104T145446Z
UID:72547-1736380800-1736467199@mahamantra.cz
SUMMARY:Ékádaší (nevhodné pro půst)
DESCRIPTION:
URL:https://mahamantra.cz/event/ekadasi-nevhodne-pro-pust-6/
CATEGORIES:Vaišnavský kalendář
END:VEVENT
BEGIN:VEVENT
DTSTART;VALUE=DATE:20250102
DTEND;VALUE=DATE:20250103
DTSTAMP:20260420T060027
CREATED:20241104T145411Z
LAST-MODIFIED:20241104T161003Z
UID:72545-1735776000-1735862399@mahamantra.cz
SUMMARY:Šríla Džíva Gósvámi - Odchod\, Šrí Džagadíša Pandita - Odchod
DESCRIPTION:
URL:https://mahamantra.cz/event/srila-dziva-gosvami-odchod-sri-dzagadisa-pandita-odchod/
CATEGORIES:Vaišnavský kalendář
END:VEVENT
BEGIN:VEVENT
DTSTART;VALUE=DATE:20241231
DTEND;VALUE=DATE:20250101
DTSTAMP:20260420T060027
CREATED:20231229T111956Z
LAST-MODIFIED:20231229T111956Z
UID:72159-1735603200-1735689599@mahamantra.cz
SUMMARY:Šrí Ločana Dása Thaákura - Příchod
DESCRIPTION:
URL:https://mahamantra.cz/event/sri-locana-dasa-thaakura-prichod-2/
CATEGORIES:Vaišnavský kalendář
END:VEVENT
BEGIN:VEVENT
DTSTART;VALUE=DATE:20241227
DTEND;VALUE=DATE:20241228
DTSTAMP:20260420T060027
CREATED:20231229T112009Z
LAST-MODIFIED:20231229T112009Z
UID:72158-1735257600-1735343999@mahamantra.cz
SUMMARY:Dvádaší\, přerušení: 08:00 - 10:42
DESCRIPTION:
URL:https://mahamantra.cz/event/dvadasi-preruseni-0800-1042/
CATEGORIES:Vaišnavský kalendář
END:VEVENT
BEGIN:VEVENT
DTSTART;VALUE=DATE:20241226
DTEND;VALUE=DATE:20241227
DTSTAMP:20260420T060027
CREATED:20231229T111856Z
LAST-MODIFIED:20231229T111856Z
UID:72157-1735171200-1735257599@mahamantra.cz
SUMMARY:Ékádaší (půst za Saphala Ékádaší)
DESCRIPTION:
URL:https://mahamantra.cz/event/ekadasi-pust-za-saphala-ekadasi-5/
CATEGORIES:Vaišnavský kalendář
END:VEVENT
BEGIN:VEVENT
DTSTART;VALUE=DATE:20241218
DTEND;VALUE=DATE:20241219
DTSTAMP:20260420T060027
CREATED:20231229T111754Z
LAST-MODIFIED:20231229T111754Z
UID:72148-1734480000-1734566399@mahamantra.cz
SUMMARY:Šríla Bhaktisiddhánta Sarasvatí Thákura - Odchod (půst do oběda)
DESCRIPTION:
URL:https://mahamantra.cz/event/srila-bhaktisiddhanta-sarasvati-thakura-odchod-pust-do-obeda-5/
CATEGORIES:Vaišnavský kalendář
END:VEVENT
BEGIN:VEVENT
DTSTART;VALUE=DATE:20241212
DTEND;VALUE=DATE:20241213
DTSTAMP:20260420T060027
CREATED:20231229T111731Z
LAST-MODIFIED:20231229T111731Z
UID:72147-1733961600-1734047999@mahamantra.cz
SUMMARY:Dvádaší\, přerušení: 07:52 - 10:34
DESCRIPTION:
URL:https://mahamantra.cz/event/dvadasi-preruseni-0752-1034/
CATEGORIES:Vaišnavský kalendář
END:VEVENT
BEGIN:VEVENT
DTSTART;VALUE=DATE:20241211
DTEND;VALUE=DATE:20241212
DTSTAMP:20260420T060027
CREATED:20231229T111715Z
LAST-MODIFIED:20231229T111715Z
UID:72146-1733875200-1733961599@mahamantra.cz
SUMMARY:Vyslovení Šrímad Bhagavad Gíty
DESCRIPTION:
URL:https://mahamantra.cz/event/vysloveni-srimad-bhagavad-gity-2/
CATEGORIES:Vaišnavský kalendář
END:VEVENT
BEGIN:VEVENT
DTSTART;VALUE=DATE:20241211
DTEND;VALUE=DATE:20241212
DTSTAMP:20260420T060027
CREATED:20231229T111647Z
LAST-MODIFIED:20231229T111647Z
UID:72145-1733875200-1733961599@mahamantra.cz
SUMMARY:Ékádaší (půst za Mókšada Ékádaší)
DESCRIPTION:
URL:https://mahamantra.cz/event/ekadasi-pust-za-moksada-ekadasi-4/
CATEGORIES:Vaišnavský kalendář
END:VEVENT
BEGIN:VEVENT
DTSTART;VALUE=DATE:20241127
DTEND;VALUE=DATE:20241128
DTSTAMP:20260420T060027
CREATED:20231229T111628Z
LAST-MODIFIED:20231229T111628Z
UID:72144-1732665600-1732751999@mahamantra.cz
SUMMARY:Dvádaší\, přerušení: 07:34 - 10:24
DESCRIPTION:
URL:https://mahamantra.cz/event/dvadasi-preruseni-0734-1024/
CATEGORIES:Vaišnavský kalendář
END:VEVENT
BEGIN:VEVENT
DTSTART;VALUE=DATE:20241126
DTEND;VALUE=DATE:20241127
DTSTAMP:20260420T060027
CREATED:20231229T111606Z
LAST-MODIFIED:20231229T111606Z
UID:72143-1732579200-1732665599@mahamantra.cz
SUMMARY:Ékádaší (půst za Utpanna Ékádaší)
DESCRIPTION:
URL:https://mahamantra.cz/event/ekadasi-pust-za-utpanna-ekadasi-5/
CATEGORIES:Vaišnavský kalendář
END:VEVENT
BEGIN:VEVENT
DTSTART;VALUE=DATE:20241115
DTEND;VALUE=DATE:20241116
DTSTAMP:20260420T060027
CREATED:20231229T111546Z
LAST-MODIFIED:20231229T111546Z
UID:72142-1731628800-1731715199@mahamantra.cz
SUMMARY:Tulasí-Šalagráma Viváha (svatba)\, Konec Kártiku
DESCRIPTION:
URL:https://mahamantra.cz/event/tulasi-salagrama-vivaha-svatba-konec-kartiku-2/
CATEGORIES:Vaišnavský kalendář
END:VEVENT
BEGIN:VEVENT
DTSTART;VALUE=DATE:20241114
DTEND;VALUE=DATE:20241115
DTSTAMP:20260420T060027
CREATED:20231229T111506Z
LAST-MODIFIED:20231229T112902Z
UID:72141-1731542400-1731628799@mahamantra.cz
SUMMARY:Konec Čaturmásji
DESCRIPTION:
URL:https://mahamantra.cz/event/konec-caturmasji-5/
CATEGORIES:Vaišnavský kalendář
END:VEVENT
BEGIN:VEVENT
DTSTART;VALUE=DATE:20241113
DTEND;VALUE=DATE:20241114
DTSTAMP:20260420T060027
CREATED:20231229T111426Z
LAST-MODIFIED:20231229T111426Z
UID:72136-1731456000-1731542399@mahamantra.cz
SUMMARY:Dvádaší\, přerušení: 07:12 - 08:33
DESCRIPTION:
URL:https://mahamantra.cz/event/dvadasi-preruseni-0712-0833/
CATEGORIES:Vaišnavský kalendář
END:VEVENT
BEGIN:VEVENT
DTSTART;VALUE=DATE:20241112
DTEND;VALUE=DATE:20241113
DTSTAMP:20260420T060027
CREATED:20231229T111406Z
LAST-MODIFIED:20231229T111406Z
UID:72135-1731369600-1731455999@mahamantra.cz
SUMMARY:Šríla Gaura Kišóra Dása Bábádží – Odchod (půst do oběda)
DESCRIPTION:
URL:https://mahamantra.cz/event/srila-gaura-kisora-dasa-babadzi-odchod-pust-do-obeda-2/
CATEGORIES:Vaišnavský kalendář
END:VEVENT
BEGIN:VEVENT
DTSTART;VALUE=DATE:20241112
DTEND;VALUE=DATE:20241113
DTSTAMP:20260420T060027
CREATED:20231229T111352Z
LAST-MODIFIED:20231229T111352Z
UID:72137-1731369600-1731455999@mahamantra.cz
SUMMARY:Ékádaší (půst za Utthana Ékádaší)
DESCRIPTION:
URL:https://mahamantra.cz/event/ekadasi-pust-za-utthana-ekadasi-4/
CATEGORIES:Vaišnavský kalendář
END:VEVENT
BEGIN:VEVENT
DTSTART;VALUE=DATE:20241109
DTEND;VALUE=DATE:20241110
DTSTAMP:20260420T060027
CREATED:20231229T111231Z
LAST-MODIFIED:20231229T111231Z
UID:72121-1731110400-1731196799@mahamantra.cz
SUMMARY:Gópáštamí\, Góštháštamí\, Šrí Gadádhara Dása Gósvámí – Odchod\, Šrí Šrinivása Áčárja – Odchod
DESCRIPTION:
URL:https://mahamantra.cz/event/gopastami-gosthastami-sri-gadadhara-dasa-gosvami-odchod-sri-srinivasa-acarja-odchod-2/
CATEGORIES:Vaišnavský kalendář
END:VEVENT
BEGIN:VEVENT
DTSTART;VALUE=DATE:20241105
DTEND;VALUE=DATE:20241106
DTSTAMP:20260420T060027
CREATED:20231229T111206Z
LAST-MODIFIED:20231229T111206Z
UID:72120-1730764800-1730851199@mahamantra.cz
SUMMARY:Šríla Prabhupáda – Odchod (půst do oběda)
DESCRIPTION:
URL:https://mahamantra.cz/event/srila-prabhupada-odchod-pust-do-obeda-4/
CATEGORIES:Vaišnavský kalendář
END:VEVENT
BEGIN:VEVENT
DTSTART;VALUE=DATE:20241102
DTEND;VALUE=DATE:20241103
DTSTAMP:20260420T060027
CREATED:20231229T111152Z
LAST-MODIFIED:20231229T111152Z
UID:72119-1730505600-1730591999@mahamantra.cz
SUMMARY:Góvardhana púdža\, Gó púdža\, Gó Krida\, Dípávalí
DESCRIPTION:
URL:https://mahamantra.cz/event/govardhana-pudza-go-pudza-go-krida-dipavali-5/
CATEGORIES:Vaišnavský kalendář
END:VEVENT
BEGIN:VEVENT
DTSTART;VALUE=DATE:20241028
DTEND;VALUE=DATE:20241029
DTSTAMP:20260420T060027
CREATED:20231229T111136Z
LAST-MODIFIED:20231229T111136Z
UID:72118-1730073600-1730159999@mahamantra.cz
SUMMARY:Dvádaší\, přerušení: 10:03 - 10:05
DESCRIPTION:
URL:https://mahamantra.cz/event/dvadasi-preruseni-1003-1005/
CATEGORIES:Vaišnavský kalendář
END:VEVENT
BEGIN:VEVENT
DTSTART;VALUE=DATE:20241027
DTEND;VALUE=DATE:20241028
DTSTAMP:20260420T060027
CREATED:20231229T111121Z
LAST-MODIFIED:20231229T111121Z
UID:72117-1729987200-1730073599@mahamantra.cz
SUMMARY:Ékádaší (půst za Ramá Ékádaší)
DESCRIPTION:
URL:https://mahamantra.cz/event/ekadasi-pust-za-rama-ekadasi/
CATEGORIES:Vaišnavský kalendář
END:VEVENT
BEGIN:VEVENT
DTSTART;VALUE=DATE:20241024
DTEND;VALUE=DATE:20241025
DTSTAMP:20260420T060027
CREATED:20231229T111104Z
LAST-MODIFIED:20231229T111104Z
UID:72116-1729728000-1729814399@mahamantra.cz
SUMMARY:Zjevení Rádha Kundu\, Snána Dána\, Bahuláštamí
DESCRIPTION:
URL:https://mahamantra.cz/event/zjeveni-radha-kundu-snana-dana-bahulastami-6/
CATEGORIES:Vaišnavský kalendář
END:VEVENT
BEGIN:VEVENT
DTSTART;VALUE=DATE:20241021
DTEND;VALUE=DATE:20241022
DTSTAMP:20260420T060027
CREATED:20231229T111046Z
LAST-MODIFIED:20231229T111046Z
UID:72115-1729468800-1729555199@mahamantra.cz
SUMMARY:Šríla Naróttama Dása Thákura – Odchod
DESCRIPTION:
URL:https://mahamantra.cz/event/srila-narottama-dasa-thakura-odchod-5/
CATEGORIES:Vaišnavský kalendář
END:VEVENT
BEGIN:VEVENT
DTSTART;VALUE=DATE:20241017
DTEND;VALUE=DATE:20241018
DTSTAMP:20260420T060027
CREATED:20231229T111029Z
LAST-MODIFIED:20231229T111029Z
UID:72114-1729123200-1729209599@mahamantra.cz
SUMMARY:Šrí Murári Gupta – Odchod\, Začíná měsíc Kártik
DESCRIPTION:
URL:https://mahamantra.cz/event/sri-murari-gupta-odchod-zacina-mesic-kartik-2/
CATEGORIES:Vaišnavský kalendář
END:VEVENT
BEGIN:VEVENT
DTSTART;VALUE=DATE:20241017
DTEND;VALUE=DATE:20241018
DTSTAMP:20260420T060027
CREATED:20231229T111017Z
LAST-MODIFIED:20231229T111017Z
UID:72113-1729123200-1729209599@mahamantra.cz
SUMMARY:Začíná 4. měsíc Čaturmásji (půst od urad dálu)
DESCRIPTION:
URL:https://mahamantra.cz/event/zacina-4-mesic-caturmasji-pust-od-urad-dalu-4/
CATEGORIES:Vaišnavský kalendář
END:VEVENT
BEGIN:VEVENT
DTSTART;VALUE=DATE:20241014
DTEND;VALUE=DATE:20241015
DTSTAMP:20260420T060027
CREATED:20231229T111001Z
LAST-MODIFIED:20231229T111001Z
UID:72112-1728864000-1728950399@mahamantra.cz
SUMMARY:Šríla Raghunátha Dása Gósvámí – Odchod\, Šríla Raghunátha Bhatta Gósvámí – Odchod\, Šríla Krišnadása Kavirádža Gósvámí – Odchod
DESCRIPTION:
URL:https://mahamantra.cz/event/srila-raghunatha-dasa-gosvami-odchod-srila-raghunatha-bhatta-gosvami-odchod-srila-krisnadasa-kaviradza-gosvami-odchod-2/
CATEGORIES:Vaišnavský kalendář
END:VEVENT
BEGIN:VEVENT
DTSTART;VALUE=DATE:20241014
DTEND;VALUE=DATE:20241015
DTSTAMP:20260420T060027
CREATED:20231229T110938Z
LAST-MODIFIED:20231229T110938Z
UID:72111-1728864000-1728950399@mahamantra.cz
SUMMARY:Dvádaší\, přerušení: 08:28 - 10:59
DESCRIPTION:
URL:https://mahamantra.cz/event/dvadasi-preruseni-0828-1059/
CATEGORIES:Vaišnavský kalendář
END:VEVENT
BEGIN:VEVENT
DTSTART;VALUE=DATE:20241013
DTEND;VALUE=DATE:20241014
DTSTAMP:20260420T060028
CREATED:20231229T111303Z
LAST-MODIFIED:20231229T111303Z
UID:72110-1728777600-1728863999@mahamantra.cz
SUMMARY:Rámačandra Vidžajótsava\, Šrí Madhváčárja – Příchod
DESCRIPTION:
URL:https://mahamantra.cz/event/ramacandra-vidzajotsava-sri-madhvacarja-prichod-5/
CATEGORIES:Vaišnavský kalendář
END:VEVENT
BEGIN:VEVENT
DTSTART;VALUE=DATE:20241013
DTEND;VALUE=DATE:20241014
DTSTAMP:20260420T060028
CREATED:20231229T110736Z
LAST-MODIFIED:20231229T110736Z
UID:72109-1728777600-1728863999@mahamantra.cz
SUMMARY:Ékádaší (půst za Pasankušá Ékádaší)
DESCRIPTION:
URL:https://mahamantra.cz/event/ekadasi-pust-za-pasankusa-ekadasi-3/
CATEGORIES:Vaišnavský kalendář
END:VEVENT
END:VCALENDAR