BEGIN:VCALENDAR
VERSION:2.0
PRODID:-//Šrí Šrí Nitái Navadvípačandra mandir - ECPv6.15.20//NONSGML v1.0//EN
CALSCALE:GREGORIAN
METHOD:PUBLISH
X-WR-CALNAME:Šrí Šrí Nitái Navadvípačandra mandir
X-ORIGINAL-URL:https://mahamantra.cz
X-WR-CALDESC:Akce na Šrí Šrí Nitái Navadvípačandra mandir
REFRESH-INTERVAL;VALUE=DURATION:PT1H
X-Robots-Tag:noindex
X-PUBLISHED-TTL:PT1H
BEGIN:VTIMEZONE
TZID:Europe/Prague
BEGIN:DAYLIGHT
TZOFFSETFROM:+0100
TZOFFSETTO:+0200
TZNAME:CEST
DTSTART:20250330T010000
END:DAYLIGHT
BEGIN:STANDARD
TZOFFSETFROM:+0200
TZOFFSETTO:+0100
TZNAME:CET
DTSTART:20251026T010000
END:STANDARD
BEGIN:DAYLIGHT
TZOFFSETFROM:+0100
TZOFFSETTO:+0200
TZNAME:CEST
DTSTART:20260329T010000
END:DAYLIGHT
BEGIN:STANDARD
TZOFFSETFROM:+0200
TZOFFSETTO:+0100
TZNAME:CET
DTSTART:20261025T010000
END:STANDARD
BEGIN:DAYLIGHT
TZOFFSETFROM:+0100
TZOFFSETTO:+0200
TZNAME:CEST
DTSTART:20270328T010000
END:DAYLIGHT
BEGIN:STANDARD
TZOFFSETFROM:+0200
TZOFFSETTO:+0100
TZNAME:CET
DTSTART:20271031T010000
END:STANDARD
END:VTIMEZONE
BEGIN:VEVENT
DTSTART;VALUE=DATE:20261023
DTEND;VALUE=DATE:20261024
DTSTAMP:20260420T022340
CREATED:20251029T151543Z
LAST-MODIFIED:20251029T151543Z
UID:73487-1792713600-1792799999@mahamantra.cz
SUMMARY:Dvádaší\, přerušení: 07:37 - 11:03
DESCRIPTION:
URL:https://mahamantra.cz/event/dvadasi-preruseni-0737-1103/
CATEGORIES:Vaišnavský kalendář
END:VEVENT
BEGIN:VEVENT
DTSTART;VALUE=DATE:20261023
DTEND;VALUE=DATE:20261024
DTSTAMP:20260420T022340
CREATED:20251029T151557Z
LAST-MODIFIED:20251029T151557Z
UID:73488-1792713600-1792799999@mahamantra.cz
SUMMARY:Šríla Raghunátha Dása Gósvámí – Odchod\, Šríla Raghunátha Bhatta Gósvámí – Odchod\, Šríla Krišnadása Kavirádža Gósvámí – Odchod
DESCRIPTION:
URL:https://mahamantra.cz/event/srila-raghunatha-dasa-gosvami-odchod-srila-raghunatha-bhatta-gosvami-odchod-srila-krisnadasa-kaviradza-gosvami-odchod-4/
CATEGORIES:Vaišnavský kalendář
END:VEVENT
BEGIN:VEVENT
DTSTART;VALUE=DATE:20261026
DTEND;VALUE=DATE:20261027
DTSTAMP:20260420T022340
CREATED:20251029T151611Z
LAST-MODIFIED:20251029T151611Z
UID:73489-1792972800-1793059199@mahamantra.cz
SUMMARY:Začíná 4. měsíc Čáturmásji (půst od urad dálu)
DESCRIPTION:
URL:https://mahamantra.cz/event/zacina-4-mesic-caturmasji-pust-od-urad-dalu-6/
CATEGORIES:Vaišnavský kalendář
END:VEVENT
BEGIN:VEVENT
DTSTART;VALUE=DATE:20261026
DTEND;VALUE=DATE:20261027
DTSTAMP:20260420T022340
CREATED:20251029T151627Z
LAST-MODIFIED:20251029T151627Z
UID:73490-1792972800-1793059199@mahamantra.cz
SUMMARY:Šrí Murári Gupta – Odchod\, Začíná měsíc Kártik
DESCRIPTION:
URL:https://mahamantra.cz/event/sri-murari-gupta-odchod-zacina-mesic-kartik-4/
CATEGORIES:Vaišnavský kalendář
END:VEVENT
BEGIN:VEVENT
DTSTART;VALUE=DATE:20261030
DTEND;VALUE=DATE:20261031
DTSTAMP:20260420T022340
CREATED:20251029T151644Z
LAST-MODIFIED:20251029T151644Z
UID:73491-1793318400-1793404799@mahamantra.cz
SUMMARY:Šríla Naróttama Dása Thákura – Odchod
DESCRIPTION:
URL:https://mahamantra.cz/event/srila-narottama-dasa-thakura-odchod-7/
CATEGORIES:Vaišnavský kalendář
END:VEVENT
BEGIN:VEVENT
DTSTART;VALUE=DATE:20261102
DTEND;VALUE=DATE:20261103
DTSTAMP:20260420T022340
CREATED:20251029T151947Z
LAST-MODIFIED:20251029T152109Z
UID:73502-1793577600-1793663999@mahamantra.cz
SUMMARY:Zjevení Rádhá Kundu\, Snána Dána\, Bahuláštamí
DESCRIPTION:
URL:https://mahamantra.cz/event/zjeveni-radha-kundu-snana-dana-bahulastami-8/
CATEGORIES:Vaišnavský kalendář
END:VEVENT
BEGIN:VEVENT
DTSTART;VALUE=DATE:20261104
DTEND;VALUE=DATE:20261105
DTSTAMP:20260420T022340
CREATED:20251029T152102Z
LAST-MODIFIED:20251029T152102Z
UID:73503-1793750400-1793836799@mahamantra.cz
SUMMARY:Ékádaší (nevhodné pro půst)
DESCRIPTION:
URL:https://mahamantra.cz/event/ekadasi-nevhodne-pro-pust-18/
CATEGORIES:Vaišnavský kalendář
END:VEVENT
BEGIN:VEVENT
DTSTART;VALUE=DATE:20261105
DTEND;VALUE=DATE:20261106
DTSTAMP:20260420T022340
CREATED:20251029T152124Z
LAST-MODIFIED:20251029T152124Z
UID:73504-1793836800-1793923199@mahamantra.cz
SUMMARY:Dvádaší (půst za Ramá Ékádaší)
DESCRIPTION:
URL:https://mahamantra.cz/event/dvadasi-pust-za-rama-ekadasi-2/
CATEGORIES:Vaišnavský kalendář
END:VEVENT
BEGIN:VEVENT
DTSTART;VALUE=DATE:20261106
DTEND;VALUE=DATE:20261107
DTSTAMP:20260420T022340
CREATED:20251029T152322Z
LAST-MODIFIED:20251029T152759Z
UID:73505-1793923200-1794009599@mahamantra.cz
SUMMARY:Trajódaší\, přerušení: 07:00 - 10:10
DESCRIPTION:
URL:https://mahamantra.cz/event/trajodasi-preruseni-0700-1010/
CATEGORIES:Vaišnavský kalendář
END:VEVENT
BEGIN:VEVENT
DTSTART;VALUE=DATE:20261110
DTEND;VALUE=DATE:20261111
DTSTAMP:20260420T022340
CREATED:20251029T152535Z
LAST-MODIFIED:20251029T152535Z
UID:73519-1794268800-1794355199@mahamantra.cz
SUMMARY:Góvardhana púdžá\, Gó púdžá\, Gó Krida\, Dípávalí
DESCRIPTION:
URL:https://mahamantra.cz/event/govardhana-pudza-go-pudza-go-krida-dipavali-7/
CATEGORIES:Vaišnavský kalendář
END:VEVENT
BEGIN:VEVENT
DTSTART;VALUE=DATE:20261113
DTEND;VALUE=DATE:20261114
DTSTAMP:20260420T022340
CREATED:20251029T152551Z
LAST-MODIFIED:20251029T152825Z
UID:73518-1794528000-1794614399@mahamantra.cz
SUMMARY:Šríla Prabhupáda – Odchod (půst do oběda)
DESCRIPTION:
URL:https://mahamantra.cz/event/srila-prabhupada-odchod-pust-do-obeda-6/
CATEGORIES:Vaišnavský kalendář
END:VEVENT
BEGIN:VEVENT
DTSTART;VALUE=DATE:20261117
DTEND;VALUE=DATE:20261118
DTSTAMP:20260420T022340
CREATED:20251029T152651Z
LAST-MODIFIED:20251029T152651Z
UID:73522-1794873600-1794959999@mahamantra.cz
SUMMARY:Gópáštamí\, Góštháštamí\, Šrí Gadádhara Dása Gósvámí – Odchod\, Šrí Šrinivása Áčárja – Odchod
DESCRIPTION:
URL:https://mahamantra.cz/event/gopastami-gosthastami-sri-gadadhara-dasa-gosvami-odchod-sri-srinivasa-acarja-odchod-4/
CATEGORIES:Vaišnavský kalendář
END:VEVENT
BEGIN:VEVENT
DTSTART;VALUE=DATE:20261120
DTEND;VALUE=DATE:20261121
DTSTAMP:20260420T022340
CREATED:20251029T153111Z
LAST-MODIFIED:20251029T153111Z
UID:73524-1795132800-1795219199@mahamantra.cz
SUMMARY:Ékádaší (půst za Utthana Ékádaší)
DESCRIPTION:
URL:https://mahamantra.cz/event/ekadasi-pust-za-utthana-ekadasi-6/
CATEGORIES:Vaišnavský kalendář
END:VEVENT
BEGIN:VEVENT
DTSTART;VALUE=DATE:20261120
DTEND;VALUE=DATE:20261121
DTSTAMP:20260420T022340
CREATED:20251029T153126Z
LAST-MODIFIED:20251029T153126Z
UID:73525-1795132800-1795219199@mahamantra.cz
SUMMARY:Šríla Gaura Kišóra Dása Bábádží – Odchod (půst do oběda)
DESCRIPTION:
URL:https://mahamantra.cz/event/srila-gaura-kisora-dasa-babadzi-odchod-pust-do-obeda-6/
CATEGORIES:Vaišnavský kalendář
END:VEVENT
BEGIN:VEVENT
DTSTART;VALUE=DATE:20261121
DTEND;VALUE=DATE:20261122
DTSTAMP:20260420T022340
CREATED:20251029T153140Z
LAST-MODIFIED:20251029T153140Z
UID:73526-1795219200-1795305599@mahamantra.cz
SUMMARY:Dvádaší\, přerušení: 07:39 - 10:20
DESCRIPTION:
URL:https://mahamantra.cz/event/dvadasi-preruseni-0739-1020/
CATEGORIES:Vaišnavský kalendář
END:VEVENT
BEGIN:VEVENT
DTSTART;VALUE=DATE:20261123
DTEND;VALUE=DATE:20261124
DTSTAMP:20260420T022340
CREATED:20251029T153156Z
LAST-MODIFIED:20251029T153156Z
UID:73527-1795392000-1795478399@mahamantra.cz
SUMMARY:Konec Čáturmásji
DESCRIPTION:
URL:https://mahamantra.cz/event/konec-caturmasji-7/
CATEGORIES:Vaišnavský kalendář
END:VEVENT
BEGIN:VEVENT
DTSTART;VALUE=DATE:20261124
DTEND;VALUE=DATE:20261125
DTSTAMP:20260420T022340
CREATED:20251029T153209Z
LAST-MODIFIED:20251029T153209Z
UID:73528-1795478400-1795564799@mahamantra.cz
SUMMARY:Tulasí-Šalagráma Viváha (svatba)\, Konec Kártiku
DESCRIPTION:
URL:https://mahamantra.cz/event/tulasi-salagrama-vivaha-svatba-konec-kartiku-4/
CATEGORIES:Vaišnavský kalendář
END:VEVENT
BEGIN:VEVENT
DTSTART;VALUE=DATE:20261204
DTEND;VALUE=DATE:20261205
DTSTAMP:20260420T022340
CREATED:20251029T153226Z
LAST-MODIFIED:20251029T153226Z
UID:73529-1796342400-1796428799@mahamantra.cz
SUMMARY:Ékádaší (půst za Utpanna Ékádaší)
DESCRIPTION:
URL:https://mahamantra.cz/event/ekadasi-pust-za-utpanna-ekadasi-6/
CATEGORIES:Vaišnavský kalendář
END:VEVENT
BEGIN:VEVENT
DTSTART;VALUE=DATE:20261205
DTEND;VALUE=DATE:20261206
DTSTAMP:20260420T022340
CREATED:20251029T153241Z
LAST-MODIFIED:20251029T153241Z
UID:73530-1796428800-1796515199@mahamantra.cz
SUMMARY:Dvádaší\, přerušení: 07:44 - 10:29
DESCRIPTION:
URL:https://mahamantra.cz/event/dvadasi-preruseni-0744-1029/
CATEGORIES:Vaišnavský kalendář
END:VEVENT
BEGIN:VEVENT
DTSTART;VALUE=DATE:20261220
DTEND;VALUE=DATE:20261221
DTSTAMP:20260420T022340
CREATED:20251029T153253Z
LAST-MODIFIED:20251029T153253Z
UID:73531-1797724800-1797811199@mahamantra.cz
SUMMARY:Ékádaší (půst za Mókšada Ékádaší)
DESCRIPTION:
URL:https://mahamantra.cz/event/ekadasi-pust-za-moksada-ekadasi-6/
CATEGORIES:Vaišnavský kalendář
END:VEVENT
BEGIN:VEVENT
DTSTART;VALUE=DATE:20261220
DTEND;VALUE=DATE:20261221
DTSTAMP:20260420T022340
CREATED:20251029T153305Z
LAST-MODIFIED:20251029T153305Z
UID:73532-1797724800-1797811199@mahamantra.cz
SUMMARY:Vyslovení Šrímad Bhagavad-gíty
DESCRIPTION:
URL:https://mahamantra.cz/event/vysloveni-srimad-bhagavad-gity-5/
CATEGORIES:Vaišnavský kalendář
END:VEVENT
BEGIN:VEVENT
DTSTART;VALUE=DATE:20261221
DTEND;VALUE=DATE:20261222
DTSTAMP:20260420T022340
CREATED:20251029T153317Z
LAST-MODIFIED:20251029T153317Z
UID:73533-1797811200-1797897599@mahamantra.cz
SUMMARY:Dvádaší\, přerušení: 07:58 - 10:39
DESCRIPTION:
URL:https://mahamantra.cz/event/dvadasi-preruseni-0758-1039/
CATEGORIES:Vaišnavský kalendář
END:VEVENT
BEGIN:VEVENT
DTSTART;VALUE=DATE:20261227
DTEND;VALUE=DATE:20261228
DTSTAMP:20260420T022340
CREATED:20251029T153334Z
LAST-MODIFIED:20251029T153334Z
UID:73534-1798329600-1798415999@mahamantra.cz
SUMMARY:Šríla Bhaktisiddhánta Sarasvatí Thákura - Odchod (půst do oběda)
DESCRIPTION:
URL:https://mahamantra.cz/event/srila-bhaktisiddhanta-sarasvati-thakura-odchod-pust-do-obeda-7/
CATEGORIES:Vaišnavský kalendář
END:VEVENT
END:VCALENDAR